BEGIN:VCALENDAR
VERSION:2.0
PRODID:-//Mami, tati, unde mergem azi? - ECPv6.6.3//NONSGML v1.0//EN
CALSCALE:GREGORIAN
METHOD:PUBLISH
X-WR-CALNAME:Mami, tati, unde mergem azi?
X-ORIGINAL-URL:https://stiudelasorina.ro
X-WR-CALDESC:Events for Mami, tati, unde mergem azi?
REFRESH-INTERVAL;VALUE=DURATION:PT1H
X-Robots-Tag:noindex
X-PUBLISHED-TTL:PT1H
BEGIN:VTIMEZONE
TZID:Europe/Bucharest
BEGIN:DAYLIGHT
TZOFFSETFROM:+0200
TZOFFSETTO:+0300
TZNAME:EEST
DTSTART:20260329T010000
END:DAYLIGHT
BEGIN:STANDARD
TZOFFSETFROM:+0300
TZOFFSETTO:+0200
TZNAME:EET
DTSTART:20261025T010000
END:STANDARD
END:VTIMEZONE
BEGIN:VEVENT
DTSTART;TZID=Europe/Bucharest:20260418T110000
DTEND;TZID=Europe/Bucharest:20260418T130000
DTSTAMP:20260420T114236
CREATED:20260415T180705Z
LAST-MODIFIED:20260415T180717Z
UID:10010000-1776510000-1776517200@stiudelasorina.ro
SUMMARY:Kids Yoga & Atelier Creativ „Totem”
DESCRIPTION:Nu toți copiii au nevoie de mai multă agitație. Unii au nevoie de un spațiu în care să respire. \nDe aceea am creat\nKids Yoga & Atelier Creativ „Totem” \nTrib Junior este un loc în care copiii se conectează cu ei\, își liniștesc mintea și apoi creează liber.\nFără reguli rigide. Fără „așa trebuie”. \nÎncepem cu kids yoga – pentru echilibru și prezență\,\napoi construim propriul TOTEM . \nFiecare copil pleacă acasă cu ceva mai mult decât o lucrare:\ncu încredere și bucuria de a fi creat. \n📅 Sâmbătă\, 18 Aprilie\n⏰ 11:00 – 13:00\n💰 Contribuție: 150 lei \nLocuri limitate.\nDacă simți că e potrivit pentru copilul tău\, scrie-mi 💌
URL:https://stiudelasorina.ro/event/kids-yoga-atelier-creativ-totem/
LOCATION:Trib 7\, Strada Logofătul Tăutu 68A\, București 031212\, București\, Sector 3\, 031212\, Romania
CATEGORIES:Atelier
ATTACH;FMTTYPE=image/jpeg:https://stiudelasorina.ro/wp-content/uploads/2026/04/Screenshot-2026-04-15-210637.jpg
END:VEVENT
END:VCALENDAR