BEGIN:VCALENDAR
VERSION:2.0
PRODID:-//Mami, tati, unde mergem azi? - ECPv6.6.3//NONSGML v1.0//EN
CALSCALE:GREGORIAN
METHOD:PUBLISH
X-ORIGINAL-URL:https://stiudelasorina.ro
X-WR-CALDESC:Events for Mami, tati, unde mergem azi?
REFRESH-INTERVAL;VALUE=DURATION:PT1H
X-Robots-Tag:noindex
X-PUBLISHED-TTL:PT1H
BEGIN:VTIMEZONE
TZID:Europe/Bucharest
BEGIN:DAYLIGHT
TZOFFSETFROM:+0200
TZOFFSETTO:+0300
TZNAME:EEST
DTSTART:20260329T010000
END:DAYLIGHT
BEGIN:STANDARD
TZOFFSETFROM:+0300
TZOFFSETTO:+0200
TZNAME:EET
DTSTART:20261025T010000
END:STANDARD
END:VTIMEZONE
BEGIN:VEVENT
DTSTART;TZID=Europe/Bucharest:20260422T170000
DTEND;TZID=Europe/Bucharest:20260422T200000
DTSTAMP:20260419T203305
CREATED:20260114T042720Z
LAST-MODIFIED:20260416T032755Z
UID:10008202-1776877200-1776888000@stiudelasorina.ro
SUMMARY:Șah & Dezvoltare Personală
DESCRIPTION:♟ Șah & Dezvoltare Personală la MAFS – în fiecare miercuri!\nProgram săptămânal:\n• Începători: 17:00 – 18:00\n• Avansați: 18:00 – 19:00\n• Evaluări copii noi: 19:00 – 20:00\nSub îndrumarea antrenorilor Andrei Murariu (Mare Maestru Internațional) și Andrei Răzvan Nacea (coach internațional)\, șahul devine mai mult decât un joc! Vă așteptăm să descoperiți tainele!\n Ne găsești în Comuna Corbeanca\, Strada Primăverii nr. 15\, Sat Ostratu\, lângă Paradisul Verde.\n📞 Înscrieri și detalii: edu.chess@gmail.com\n Contactează-ne la +40 721 470 426
URL:https://stiudelasorina.ro/event/sah-dezvoltare-personala/
LOCATION:MAFS\, Strada Primaverii 15A\, Ostratu 077066\, București\, Corbeanca\, 077066\, Romania
CATEGORIES:Atelier
ATTACH;FMTTYPE=image/jpeg:https://stiudelasorina.ro/wp-content/uploads/2026/01/615366343_858671330326698_365974708979036370_n.jpg
END:VEVENT
END:VCALENDAR