BEGIN:VCALENDAR
VERSION:2.0
PRODID:-//Mami, tati, unde mergem azi? - ECPv6.6.3//NONSGML v1.0//EN
CALSCALE:GREGORIAN
METHOD:PUBLISH
X-ORIGINAL-URL:https://stiudelasorina.ro
X-WR-CALDESC:Events for Mami, tati, unde mergem azi?
REFRESH-INTERVAL;VALUE=DURATION:PT1H
X-Robots-Tag:noindex
X-PUBLISHED-TTL:PT1H
BEGIN:VTIMEZONE
TZID:Europe/Bucharest
BEGIN:DAYLIGHT
TZOFFSETFROM:+0200
TZOFFSETTO:+0300
TZNAME:EEST
DTSTART:20260329T010000
END:DAYLIGHT
BEGIN:STANDARD
TZOFFSETFROM:+0300
TZOFFSETTO:+0200
TZNAME:EET
DTSTART:20261025T010000
END:STANDARD
END:VTIMEZONE
BEGIN:VEVENT
DTSTART;TZID=Europe/Bucharest:20260426T110000
DTEND;TZID=Europe/Bucharest:20260426T123000
DTSTAMP:20260420T192639
CREATED:20260420T023212Z
LAST-MODIFIED:20260420T023212Z
UID:10010052-1777201200-1777206600@stiudelasorina.ro
SUMMARY:Yoga în Grădina Copiilor
DESCRIPTION:Fie că ați mai practicat yoga sau nu\,\n\n\nfie că vreți să faceți yoga împreună cu copilul sau nu \,\n\n\no sesiune de yoga în natură nu poate fi decât benefică. Pentru trup\, pentru minte\, dar și pentru suflet. \n\n\nInvit mămicile zen la o sesiune de yoga\, duminică\, 26 aprilie\, de la ora 11.00\, în Grădina copiilor. Durata va fi de aprox. 90 minute\n\n\nDacă cei mici nu doresc să participe\, vom face cu ei activități în grădină – hrănit păsări\, iubit puișori de găină și boboci de rață\, cules salate din solar (crescute organic)\, plantat și atelier creativ cu elemente din natură.\n\n\nPrețul este de 100 lei/ părinte+copil sau 120 lei/părinte + 2 copii.\n\n\nÎnscrierile se fac pe whatsapp.\n\n\nVă așteptăm!
URL:https://stiudelasorina.ro/event/yoga-in-gradina-copiilor/
LOCATION:Grădina copiilor\, Bolintin-Vale\, București\, Giurgiu\, Romania
CATEGORIES:Activitate în aer liber,Atelier
ATTACH;FMTTYPE=image/jpeg:https://stiudelasorina.ro/wp-content/uploads/2026/04/674183351_10164598544662311_1564664477775679913_n.jpg
END:VEVENT
END:VCALENDAR