BEGIN:VCALENDAR
VERSION:2.0
PRODID:-//Mami, tati, unde mergem azi? - ECPv6.6.3//NONSGML v1.0//EN
CALSCALE:GREGORIAN
METHOD:PUBLISH
X-WR-CALNAME:Mami, tati, unde mergem azi?
X-ORIGINAL-URL:https://stiudelasorina.ro
X-WR-CALDESC:Events for Mami, tati, unde mergem azi?
REFRESH-INTERVAL;VALUE=DURATION:PT1H
X-Robots-Tag:noindex
X-PUBLISHED-TTL:PT1H
BEGIN:VTIMEZONE
TZID:Europe/Bucharest
BEGIN:DAYLIGHT
TZOFFSETFROM:+0200
TZOFFSETTO:+0300
TZNAME:EEST
DTSTART:20260329T010000
END:DAYLIGHT
BEGIN:STANDARD
TZOFFSETFROM:+0300
TZOFFSETTO:+0200
TZNAME:EET
DTSTART:20261025T010000
END:STANDARD
END:VTIMEZONE
BEGIN:VEVENT
DTSTART;TZID=Europe/Bucharest:20260322T100000
DTEND;TZID=Europe/Bucharest:20260322T170000
DTSTAMP:20260422T072623
CREATED:20260320T025237Z
LAST-MODIFIED:20260320T025237Z
UID:10009518-1774173600-1774198800@stiudelasorina.ro
SUMMARY:Salonul Felin International SofistiCAT
DESCRIPTION: Bucureștiul găzduiește în acest weekend „Oscarurile lumii feline” la Salonul Felin International SofistiCAT.Te asteaptăm pe 21-22 martie 2026\, la Sala Palatului\, intre 10:00 si 17:00\, atât sâmbată\, cât și duminică.\n Timp de doua zile vei putea descoperi peste 180 de pisici\, printre care RO Bucovina Kira Kiralina\, o spectaculoasă pisică British Shorthair blue\, poreclită de admiratori „ursoaica albastră din Bucovina” Campioană Mondială în 2025 și Campioană Europeană în 2026\, RO Winter Foxes Nexus\, un motănel British Shorthair Silver cu ochi de un albastru incredibil\, Campion European și al Țărilor Baltice în 2025.Dar poate cea mai emoționantă poveste vine de la Duracell. Cândva o pisică fără stăpân\, luptând pentru supraviețuire pe străzile din Iași\, Duracell a devenit anul acesta Campioană Europeană\, după ce a cucerit luna trecută cel mai înalt podium la Campionatul European Felin de la Graz (Austria).\n Vei putea urmari jurizari live\, participa la tombole cu premii pentru vizitatori si blanosii lor\, descoperi activitati educative si distractive\, dar si oportunitati de adoptie pentru pisici care isi cauta o familie.\n Cu sprijinul sponsorului principal Royal Canin\, evenimentul promite doua zile pline de culoare\, energie si bucurie pentru toti iubitorii de pisici.\n\n\n\n Favorite
URL:https://stiudelasorina.ro/event/salonul-felin-international-sofisticat-2/
LOCATION:Sala Palatului\, Strada Ion Câmpineanu 28\, București 010039\, București\, Sector 1\, 010039\, Romania
CATEGORIES:Expoziție
ATTACH;FMTTYPE=image/webp:https://stiudelasorina.ro/wp-content/uploads/2026/03/https___static3.iabilet.ro_img_db_event_01_df_33_00000391691-a8b5.webp
END:VEVENT
BEGIN:VEVENT
DTSTART;TZID=Europe/Bucharest:20260322T100000
DTEND;TZID=Europe/Bucharest:20260322T143000
DTSTAMP:20260422T072623
CREATED:20260116T025038Z
LAST-MODIFIED:20260319T053419Z
UID:10008267-1774173600-1774189800@stiudelasorina.ro
SUMMARY:Swap & Play – Rocada Jucăriilor
DESCRIPTION:Swap & Play – Rocada Jucăriilor \n\n\nPe 22 martie te așteptăm la Târgul de jucării MINA.\n\n\nÎmpreună cu Step into Manieres\, organizăm primul târg de schimb de jucării\, o inițiativă susținută de @georgepeinsta Inovație BCR. Micuții nu doar că își vor găsi noi prieteni de joacă\, dar vor primi și lecții de educație financiară de la Ștefana Miret.\n\n\n Cum funcționează?\nAdu o jucărie\, o carte sau un joc și primești altul la schimb. Fiecare obiect primește o nouă viață în mâinile altui copil.\n\n\n Înscrierile se fac pe specials.minamuseum.com.\n\n\nRegulile Târgului de Jucării:\n\n\nStare bună: jucăriile trebuie să fie curate\, complete și fără piese lipsă sau deteriorări. Puzzle-urile și jocurile trebuie să aibă toate componentele.\n\n\nSiguranță: nu aduceți jucării nesigure sau rechemate de pe piață.\n\n\nCe acceptăm: jucării\, jocuri și cărți pentru copii.\n\n\nCe nu acceptăm: articole electrice\, jucării incomplete sau în stare proastă.\n\n\nPregătire: curățați și ștergeți jucăriile înainte de a le aduce.\n\n\n Jucăriile rămase vor fi donate ulterior către un centru pentru copii.\n\n\nIntrarea este gratuită pentru toți vizitatorii MINA din ziua târgului. Hai să facem schimb de povești și bucurii! \n\n\n\n\n\n\n\n\n\n\n\n\n\n Favorite
URL:https://stiudelasorina.ro/event/swap-play-rocada-jucariilor/
LOCATION:MINA Museum\, Strada George Constantinescu 2-4\, București 020339\, București\, Sector 2\, 20339\, Romania
CATEGORIES:Târg
ATTACH;FMTTYPE=image/jpeg:https://stiudelasorina.ro/wp-content/uploads/2026/01/651263971_800885893059484_4875521561889826801_n.jpg
END:VEVENT
BEGIN:VEVENT
DTSTART;TZID=Europe/Bucharest:20260322T100000
DTEND;TZID=Europe/Bucharest:20260322T110000
DTSTAMP:20260422T072623
CREATED:20260108T044140Z
LAST-MODIFIED:20260305T043224Z
UID:10008061-1774173600-1774177200@stiudelasorina.ro
SUMMARY:Fantoma și Magicianul
DESCRIPTION:Gen: Magie \nVârstă: +4 \nPremiera „Fantoma și Magicianul”\, semnată de Bogdan Muntean\, aduce pe scena Operei Comice pentru Copii o poveste complet neașteptată\, în care un desen prinde viață\, o fantomă se joacă de-a magicianul și nimic nu decurge conform planului. Este o incursiune comică și interactivă\, în care magia scapă de sub control\, iar copiii devin complici în spectacol. \nPublicul face cunoștință cu Hocus Poc – un personaj desenat pe schița magicianului\, care vorbește\, se contrazice cu stăpânul lui și provoacă încurcături amuzante. Cei doi intră într-un dialog plin de umor\, unde replicile spontane și glumele vizuale dau tonul întregului spectacol. De aici\, totul devine o joacă între magie și improvizație: recuzita se prăbușește\, paginile cu povești ascund opțiuni surprinzătoare\, iar alegerile copiilor determină direcția spectacolului.\nMomentul de hipnoză\, levitație\, reapariția unei fantome jucăușe care atinge oamenii fără ca ei să-și dea seama – toate creează o atmosferă de mister și râsete continue. Fantoma are chiar și o eșarfă care răspunde prin țopăieli la întrebări\, iar aparițiile de dulciuri\, porumbei\, baloane cântătoare și cărți magice transformă scena într-un spațiu în care orice e posibil. Participarea copiilor este esențială\, iar implicarea lor directă în trucurile de magie face ca fiecare reprezentație să fie diferită. \nBogdan Muntean reușește din nou să creeze un spectacol care trece dincolo de granițele obișnuitului și aduce în fața publicului o  îmbinare rară între teatru\, magie și comedie. Cu tehnici de iluzionism profesionist\, improvizație comică și momente de poezie vizuală\, „Fantoma și Magicianul” este o experiență pentru toată familia\, în care râsul\, mirarea și emoția se împletesc armonios.\nSpectacolul este recomandat copiilor cu vârste între 4 și 12 ani\, dar garantează zâmbete și aplauze și din partea părinților. Magia nu e doar pe scenă\, ci și în ochii celor care privesc. \n\n\n\n\n\n\n\n\n\n\n\n\n Favorite
URL:https://stiudelasorina.ro/event/fantoma-si-magicianul-4/
LOCATION:Opera Comică pentru Copii\, Calea Giulești 16\, București 060276\, București\, Sector 6\, 060276
CATEGORIES:Spectacol de magie
ATTACH;FMTTYPE=image/jpeg:https://stiudelasorina.ro/wp-content/uploads/2026/01/1757327192-197.jpg
END:VEVENT
BEGIN:VEVENT
DTSTART;TZID=Europe/Bucharest:20260322T100000
DTEND;TZID=Europe/Bucharest:20260322T110000
DTSTAMP:20260422T072623
CREATED:20260108T034546Z
LAST-MODIFIED:20260220T023032Z
UID:10007991-1774173600-1774177200@stiudelasorina.ro
SUMMARY:Cameleonul
DESCRIPTION:Duminică\, 22 martie\, ora 10.00\,vă invităm la spectacolul-atelier“Cameleonul”\,vârsta recomandată 1-4 ani.\nUn cameleon descoperă într-o bună zi că-și poate schimba nu numai culoarea\, ci și forma. Ar putea deveni pufos ca un urs polar\, elegant ca un flamingo\, iute ca un cerb sau puternic ca un elefant. Ar putea fi câte puțin din toate animalele.Ce minune!Vă așteptăm cu mic – cu mare\, să vedeți minunata transformare!Cost bilet un copil+un părinte: 100 lei.Cost bilet un copil+doi părinți: 110 leiCel de-al doilea copil al familiei: 50 lei.Adresa: Hotel Caro\, sala Iorga\, Bd. Barbu Văcărescu nr. 164 A\, sector 2\, Bucureşti.Înscrieri: rusunicoleta3@gmail.com\, tapusele@gmail.com\n\n\n\n\n\n\n\n\n\n\n\n\n Favorite
URL:https://stiudelasorina.ro/event/cameleonul/
LOCATION:Hotel Caro\, Str. Barbu Văcărescu 164A\, București 020285\, București\, Sector 2\, 020285
CATEGORIES:Spectacol-atelier
ATTACH;FMTTYPE=image/jpeg:https://stiudelasorina.ro/wp-content/uploads/2026/01/600527146_886432587237201_3913747021205894641_n.jpg
END:VEVENT
BEGIN:VEVENT
DTSTART;TZID=Europe/Bucharest:20260321T190000
DTEND;TZID=Europe/Bucharest:20260321T200000
DTSTAMP:20260422T072623
CREATED:20260213T032121Z
LAST-MODIFIED:20260320T043013Z
UID:10008905-1774119600-1774123200@stiudelasorina.ro
SUMMARY:TOTO!
DESCRIPTION:Te așteptăm la spectacolul-experiență sonoră 𝐓𝐎𝐓𝐎! de Tim Crouch\, în regia lui Bobi Pricop.\n Sâmbătă\, 14 februarie\, de la 19:00 Sala mare\, Masca (Bd. Uverturii nr. 14)\n𝐓𝐎𝐓𝐎! spune povestea legăturii profunde și emoționante dintre Effy\, o fată de 12 ani\, și câinele ei\, Toto. Piesa lui Tim Crouch explorează această conexiune specială pentru a vorbi despre ceea ce ne menține la suprafață în momentele în care lumea din jur se prăbușește: despre curaj\, dragoste\, prietenie\, importanța de a (ne) asculta și\, mai ales\, despre sunetele răsăritului\, ale întunericului\, singurătății\, ale inimilor frânte sau ale speranțelor nebănuite.\nPentru că mama ei se află în spital\, Effy ajunge să locuiască alături de unchiul și mătușa ei\, într-o clădire în care animalele de companie nu sunt acceptate. Așa că este nevoită să recurgă la tot felul de soluții ingenioase pentru a-l ascunde pe Toto\, atât de rudele ei\, cât și de toți vecinii. Singurul care îi știe secretul este noul ei prieten\, Noah\, însă Toto nu poate fi ascuns prea mult timp.\nAtenție: 𝐓𝐎𝐓𝐎! se întâmplă în imaginația ta. Spectatorii vor fi dotați cu perechi de căști pentru o experiență sonoră imersivă._____________________________\nVârsta 12+\n𝐓𝐎𝐓𝐎! 𝐝𝐞 Tim Crouch𝐓𝐫𝐚𝐝𝐮𝐜𝐞𝐫𝐞: Silvia Năstăsie\n𝐃𝐢𝐬𝐭𝐫𝐢𝐛𝐮𝐭̦𝐢𝐚𝐄𝐟𝐟𝐲: Mara Bugarin𝐓𝐨𝐭𝐨/ 𝐍𝐨𝐚𝐡: Dragoș Stoica / David Drugaru𝐌𝐚𝐦𝐚 (𝐯𝐨𝐜𝐞): Alina Crăiță𝐌𝐚̆𝐭𝐮𝐬̦𝐚 (𝐯𝐨𝐜𝐞): Mara Căruțașu𝐔𝐧𝐜𝐡𝐢𝐮𝐥 (𝐯𝐨𝐜𝐞): Voicu Aaniței\n𝐑𝐞𝐠𝐢𝐚: Bobi Pricop𝐌𝐮𝐳𝐢𝐜𝐚: Călin Țopa𝐒𝐜𝐞𝐧𝐨𝐠𝐫𝐚𝐟𝐢𝐚: Raul Cioabă𝐂𝐨𝐫𝐞𝐠𝐫𝐚𝐟𝐢𝐚: Filip Stoica𝐋𝐢𝐠𝐡𝐭𝐢𝐧𝐠 𝐝𝐞𝐬𝐢𝐠𝐧: Andrei Ignat𝐏𝐫𝐨𝐝𝐮𝐜𝐚̆𝐭𝐨𝐫 𝐝𝐞𝐥𝐞𝐠𝐚𝐭: Mihai Trăsnea\n Favorite
URL:https://stiudelasorina.ro/event/toto-3/
LOCATION:Teatrul Masca\, Bulevardul Uverturii 14\, 060943București\, București\, Sector 6\, 060943\, Romania
CATEGORIES:Spectacol de teatru
ATTACH;FMTTYPE=image/jpeg:https://stiudelasorina.ro/wp-content/uploads/2026/02/593295533_1314083607422861_1824737190171940640_n.jpg
END:VEVENT
BEGIN:VEVENT
DTSTART;TZID=Europe/Bucharest:20260321T180000
DTEND;TZID=Europe/Bucharest:20260321T190000
DTSTAMP:20260422T072623
CREATED:20260107T044015Z
LAST-MODIFIED:20260212T034031Z
UID:10007931-1774116000-1774119600@stiudelasorina.ro
SUMMARY:Motanul încălțat
DESCRIPTION:5 ani+ \n„Motanul încălțat”\, una dintre cele mai frumoase povești ale copilăriei\, revine în atenția micilor spectatori\, cu un nou concept creativ\, plecând de la celebrul text scris de Charles Perrault. Din sala tronului\, până la castelul căpcăunului\, de la răspântii de drumuri\, până pe câmpii însorite\, copiii vor călători imaginar alături de fermecata felină\, se vor implica în întâmplări și vor încerca trăiri variate. Însă voiajul propus de prezenta dramatizare nu este doar unul în lumea basmelor\, ci și a ideilor. Importanța recunoștinței devine\, în acest sens\, mesajul principal al punerii în scenă. \n„Curajul\, generozitatea și umorul Motanului\, însoțit de spiritul său ludic\, îi vor cuceri pe loc pe copii. Va fi un spectacol plin de culoare\, numere de pantomimă\, proiecții animate și momente coregrafice. Spațiul de joc modern\, aplombul și entuziasmul interpretării actoricești sunt doar câteva dintre <<ingredientele>> care vor garanta succesul reprezentațiilor” – declară regizorul Toma Hogea. \nInteractiv\, captivant și cu un final complet schimbat\, „Motanul încălțat” ne reamintește unul din scopurile de bază ale teatrului pentru copii: de a transmite\, prin mijloace adaptate\, valori simple\, dar esențiale\, cum este\, în cazul de față\, aprecierea ajutorului primit. \n Favorite
URL:https://stiudelasorina.ro/event/motanul-incaltat-8/
LOCATION:Teatrul Ion Creangă\, Strada Piața Amzei 13\, București 030167\, București\, Sector 3\, 030167
CATEGORIES:Spectacol de teatru
ATTACH;FMTTYPE=image/png:https://stiudelasorina.ro/wp-content/uploads/2026/01/Poza-spectacol-site-600-x-450-px-5-1.png
END:VEVENT
BEGIN:VEVENT
DTSTART;TZID=Europe/Bucharest:20260321T173000
DTEND;TZID=Europe/Bucharest:20260321T193000
DTSTAMP:20260422T072623
CREATED:20260318T032608Z
LAST-MODIFIED:20260318T032608Z
UID:10009471-1774114200-1774121400@stiudelasorina.ro
SUMMARY:Vânătoare de Ouă de Paște
DESCRIPTION:Vânătoare de Ouă de Paște \nDragi copii și părinți\,\nVă invităm la o Vânătoare de Ouă plină de distracție și surprize!\n Data: 21 martie\n Ora: 17:30-19:30\n Locația: Hands-On\nCopiii vor porni în căutarea ouălor colorate ascunse și vor avea parte de jocuri\, bucurie și mici surprize.\nVă așteptăm cu drag să petrecem împreună o după-amiază veselă! \n\n\n Favorite
URL:https://stiudelasorina.ro/event/vanatoare-de-oua-de-paste/
LOCATION:Hands-On\, Bulevardul Iuliu Maniu 7\, București 061072\, București\, Sector 6\, 061072
CATEGORIES:Atelier
ATTACH;FMTTYPE=image/png:https://stiudelasorina.ro/wp-content/uploads/2026/03/Pastel-Whimsical-Illustrated-Easter-Egg-Hunt-Event-Poster-2.png
END:VEVENT
BEGIN:VEVENT
DTSTART;TZID=Europe/Bucharest:20260321T170000
DTEND;TZID=Europe/Bucharest:20260321T200000
DTSTAMP:20260422T072623
CREATED:20260319T045145Z
LAST-MODIFIED:20260319T045145Z
UID:10009506-1774112400-1774123200@stiudelasorina.ro
SUMMARY:Show interactiv de magie
DESCRIPTION:Show interactiv de magie la Hopa ȚOPA Land!\n\n\nPe 21 martie pregătim o experiență specială pentru copii alături de @magicianul.alex .\n\n\nCopiii nu vor fi doar spectatori ci vor participa activ la trucurile de magie într-un show interactiv plin de surprize.\n\n\nProgramul evenimentului:\n• 17:00 – Acces în locul de joacă și joacă liberă\n• 18:00 – 19:00 – Show interactiv de magie cu magicianul Alex Niculae\n• 19:00 – 20:00 – Joacă liberă în spațiile Hopa ȚOPA Land\n\n\n Preț bilet: 90 lei / copil\nLimonada Hopa ȚOPA si fructe din partea casei\n\n\nAm dat drumul înscrierilor!\nLocurile sunt limitate\, iar biletele se oferă în limita stocului disponibil.\n\n\nPentru rezervări și detalii\, trimiteți mesaj privat sau sunați-ne.\n\n\nVă așteptăm la Hopa ȚOPA Land pentru o seară plină de magie\, distracție și joacă!\n\n Favorite
URL:https://stiudelasorina.ro/event/show-interactiv-de-magie/
LOCATION:Hopa Țopa Land\, Șoseaua Colentina 60A\, București 021186\, București\, Sector 2\, 021186\, Romania
CATEGORIES:Play session,Spectacol de magie
ATTACH;FMTTYPE=image/png:https://stiudelasorina.ro/wp-content/uploads/2026/03/Eveniment-loc-de-joaca-mmomnt04.png
END:VEVENT
BEGIN:VEVENT
DTSTART;TZID=Europe/Bucharest:20260321T170000
DTEND;TZID=Europe/Bucharest:20260321T193000
DTSTAMP:20260422T072623
CREATED:20260204T044122Z
LAST-MODIFIED:20260204T044122Z
UID:10008646-1774112400-1774121400@stiudelasorina.ro
SUMMARY:Charlie și fabrica de ciocolată
DESCRIPTION:Charlie si fabrica de ciocolata\, Musical\, +7 ani\, Sala Mare \n\n\n\nDurata: 150 de minute \nPregătește-ți toate simțurile pentru o aventură dulce și palpitantă! Opera Comică pentru Copii prezintă în premieră\, în primăvara anului 2026\, musicalul „Charlie și fabrica de ciocolată”\, o producție fascinantă în regia lui Emil Pantelimon. Inspirat de celebra poveste a lui Roald Dahl\, spectacolul urmărește aventura lui Charlie Bucket\, un băiat simplu cu o inimă mare\, care ajunge să exploreze minunata fabrică de ciocolată a excentricului Willy Wonka. Cu ritmurile irezistibile ale lui Marc Shaiman\, decoruri spectaculoase și personaje savuroase\, acest musical este o invitație într-un fabulos univers de ciocolată\, râsete și optimism\, în care fiecare copil descoperă că bunătatea și curajul pot schimba destinul. O poveste dulce ca un baton de ciocolată\, plină de magie și voie bună\, care va cuceri inimile tuturor! \n\n\n\n\n\n\n\n\n\n\n\n\n Favorite
URL:https://stiudelasorina.ro/event/charlie-si-fabrica-de-ciocolata-14/
LOCATION:Opera Comică pentru Copii\, Calea Giulești 16\, București 060276\, București\, Sector 6\, 060276
CATEGORIES:Spectacol
ATTACH;FMTTYPE=image/jpeg:https://stiudelasorina.ro/wp-content/uploads/2026/02/1752573902-359.jpg
END:VEVENT
BEGIN:VEVENT
DTSTART;TZID=Europe/Bucharest:20260321T163000
DTEND;TZID=Europe/Bucharest:20260321T180000
DTSTAMP:20260422T072623
CREATED:20260318T030314Z
LAST-MODIFIED:20260318T030314Z
UID:10009465-1774110600-1774116000@stiudelasorina.ro
SUMMARY:Tărâmul Emoțiilor și Zâna Bucuriei
DESCRIPTION:Dragi pǎrinți\, \nAvem onoarea să vă prezentǎm un spectacol fascinant\, plin de farmec și învățături prețioase – “Tărâmul Emoțiilor și Zâna Bucuriei”. Acesta este un spectacol pentru întreaga familie. Pentru copilul tǎu\, dar şi pentru copilul din tine!\nÎn acest tărâm magic\, unde realitatea se întrepătrunde cu imaginația\, unde personajele vorbitoare și eroii își trăiesc poveștile\, vă vom purta într-o călătorie plină de mister și încântare. Pregătiți-vă să descoperiți secretul inimii și bucuriei interioare alături de Micul Magician! \n\n\n\nMicul Magician pornește într-o călătorie misterioasă către Tărâmul Emoțiilor\, cu dorința de a descoperi acel secret magic care aduce bucurie în suflet. Pe drumul său\, el va întâlni personaje incredibile\, fiecare cu o lecție prețioasă despre emoții și bucuria din interior.\nÎntâlnirea cu Zâna Bucuriei va deschide porțile unui univers plin de voioșie și veselie. Zâna îl va învăța pe Micul Magician să găsească bucuria în cele mai mici detalii și să cultive un zâmbet luminos în sufletul său.\nDar aventura lui nu se oprește aici! Însoțit de un dragon jucăuș\, Micul Magician va învăța că frica poate fi înfruntată cu curaj\, iar curajul aduce eliberarea emoțiilor și manifestarea bucuriei.\nPe parcursul călătoriei\, Micul Magician va descoperi și alți prieteni minunați\, fiecare cu mesajul său de învățătură\, îndemnându-l să-și asculte inima și să aleagă mereu calea bună.\nUn dialog magic…\nDar ce se întâmplă atunci când Micul Magician își pierde încrederea și simte că nu poate să devină un mare magician? Spiritul Magiei îi va dezvălui un secret înțelept\, că bucuria interioară este cheia și că fiecare zi aduce micile bucurii pe care trebuie să le alegem.\nPrin farmecul său\, Spiritul Magiei îl trimite pe Micul Magician în Tărâmul Emoțiilor\, un loc magic în interiorul său. Aici\, Micul Magician va învăța să-și recapete bucuria\, să aleagă întotdeauna binele și să descopere secretul magic al inimii.\nAșadar\, dragi spectatori\, alăturați-vă Micului Magician în această călătorie extraordinară și descoperiți împreună cu el Tărâmul Emoțiilor și Puterea Bucuriei Interioare! Un spectacol captivant pentru întreaga familie\, care ne amintește că bucuria se află mereu în sufletul nostru.\nAșadar\, vă invităm să vă alăturați acestui spectacol magic\, să vă lăsați purtați de emoții și să descoperiți împreună cu Micul Magician Tărâmul Emoțiilor și Zâna Bucuriei care locuiește în fiecare dintre noi.\nO poveste plină de învățăminte și farmec vă așteaptă!\n\n\n\n\n\n\n\n\n\n\n\n Favorite
URL:https://stiudelasorina.ro/event/taramul-emotiilor-si-zana-bucuriei-2/
LOCATION:Teatrul LumiLand\, Bulevardul Hristo Botev 1\, București 030167\, București\, Sector 3\, 030167
CATEGORIES:Play session,Spectacol de teatru
ATTACH;FMTTYPE=image/webp:https://stiudelasorina.ro/wp-content/uploads/2026/03/https___static3.iabilet.ro_img_db_event_01_e6_b7_00000390754-5769.webp
END:VEVENT
BEGIN:VEVENT
DTSTART;TZID=Europe/Bucharest:20260321T140000
DTEND;TZID=Europe/Bucharest:20260321T190000
DTSTAMP:20260422T072623
CREATED:20260312T033438Z
LAST-MODIFIED:20260318T041121Z
UID:10009337-1774101600-1774119600@stiudelasorina.ro
SUMMARY:Eveniment Caritabil - Ziua Copilăriei în Culori
DESCRIPTION: 𝐄𝐯𝐞𝐧𝐢𝐦𝐞𝐧𝐭 𝐂𝐚𝐫𝐢𝐭𝐚𝐛𝐢𝐥 – „𝐙𝐢𝐮𝐚 𝐂𝐨𝐩𝐢𝐥𝐚̆𝐫𝐢𝐞𝐢 𝐢̂𝐧 𝐂𝐮𝐥𝐨𝐫𝐢” – 𝐄𝐝𝐢𝐭̦𝐢𝐚 𝐚 𝐈𝐈-𝐚\, 𝐄𝐝𝐢𝐭̦𝐢𝐚 𝐝𝐞 𝐏𝐫𝐢𝐦𝐚̆𝐯𝐚𝐫𝐚̆ \n Când? 21-22 martie Unde? Orășelul Copiilor / Parcul Copiilor\, București – Sector 4 / Zona Fântânii Muzicale La ce oră? În ambele zile\, între 14:00 – 19:00 Intrare liberă!\nDragi părinți\, copii și prieteni ai Asociației Spectrul Copilăriei\, vă invităm să ne bucurăm împreună de o ediție specială de primăvară\, plină de culoare\, joacă și fapte bune! \n„𝒁𝒊𝒖𝒂 𝑪𝒐𝒑𝒊𝒍𝒂̆𝒓𝒊𝒆𝒊 𝒊̂𝒏 𝑪𝒖𝒍𝒐𝒓𝒊” – 𝐄𝐝𝐢𝐭̦𝐢𝐚 𝐚 𝐈𝐈-𝐚\, 𝐄𝐝𝐢𝐭̦𝐢𝐚 𝐝𝐞 𝐏𝐫𝐢𝐦𝐚̆𝐯𝐚𝐫𝐚̆ este un eveniment caritabil dedicat copiilor cu tulburări din spectrul autist (TSA) și copiilor cu nevoi speciale.\n Scopul nostru: Să aducem comunitatea mai aproape\, Să sprijinim terapiile și programele de integrare socială\, Să oferim zâmbete\, joacă și speranță tuturor copiilor. \n Ce te așteaptă în parc:\n Ateliere creative și senzoriale:* Pictură pe față* Pictură pe hârtie* Pictură pe sticlă* Pictură pe lut* Realizarea de felicitări tematice de primăvară\n Atelier creativ:* Ghiveci cu trifoi – copiii își vor planta și picta propriul ghiveci\n Colț de joacă și socializare Tombolă caritabilă cu premii surpriză Colț foto „Zâmbetul Copilăriei” Colț informativ „Cunoaște Spectrul Copilăriei”\n Toate activitățile contribuie la sprijinirea copiilor din programele Asociației.\nParticiparea este gratuită\, iar donațiile se pot face pe loc – prin urne\, QR code sau prin activitățile caritabile din cadrul evenimentului.\n Hai și tu să fii parte dintr-o poveste colorată\, plină de empatie și bucurie!Împreună putem transforma două zile de primăvară într-o adevărată sărbătoare a copilăriei și a binelui. \n Contact: 0750 450 257 | 0740 333 293 Email: contact@spectrul-copilariei.ro\n Website: www.spectrul-copilariei.ro\n\n Favorite
URL:https://stiudelasorina.ro/event/eveniment-caritabil-ziua-copilariei-in-culori/
LOCATION:Orășelul Copiilor\, Calea Piscului\, București 040354\, București\, Sector 4\, 040354\, Romania
CATEGORIES:Atelier,Festival,Play session
ATTACH;FMTTYPE=image/jpeg:https://stiudelasorina.ro/wp-content/uploads/2026/03/651816458_1363871712422339_6860530256031725466_n.jpg
END:VEVENT
BEGIN:VEVENT
DTSTART;TZID=Europe/Bucharest:20260321T120000
DTEND;TZID=Europe/Bucharest:20260321T140000
DTSTAMP:20260422T072623
CREATED:20260320T030636Z
LAST-MODIFIED:20260320T030636Z
UID:10009522-1774094400-1774101600@stiudelasorina.ro
SUMMARY:Super atelier de slime la București Mall
DESCRIPTION:Sâmbăta aceasta\, ne vedem la carusel\, la un super atelier de slime\, plin de culoare.\nTe așteptăm să experimentăm cu texturi și nuanțe diferite\, într-un eveniment dedicat creativității celor mici.\nEste ocazia perfectă pentru o porție de joacă și un vibe relaxat de weekend în oraș.\nVino între orele 12:00 – 14:00! Accesul este liber!\nHai la joacă! Vii?\n Favorite
URL:https://stiudelasorina.ro/event/super-atelier-de-slime-la-bucuresti-mall/
LOCATION:București Mall\, Calea Vitan 55-59\, București 031282\, București\, Sector 3\, 031282\, Romania
CATEGORIES:Atelier
ATTACH;FMTTYPE=image/jpeg:https://stiudelasorina.ro/wp-content/uploads/2026/03/652555123_1346084217550174_5849934342442682470_n.jpg
END:VEVENT
BEGIN:VEVENT
DTSTART;TZID=Europe/Bucharest:20260321T120000
DTEND;TZID=Europe/Bucharest:20260321T130000
DTSTAMP:20260422T072623
CREATED:20260317T032113Z
LAST-MODIFIED:20260317T032113Z
UID:10009386-1774094400-1774098000@stiudelasorina.ro
SUMMARY:Șezătoarea muzicală cu Claudia
DESCRIPTION:📌Șezătoare muzicală cu Claudia – 21 martie\, ora 12:00\nCost: 100 lei/familie\nÎnscriere la 0749 079 427.\n\n\n\n\n\n\n\n Favorite
URL:https://stiudelasorina.ro/event/sezatoarea-muzicala-cu-claudia-4/
LOCATION:Ludoteca FamilyHub\, Strada Ion Nistor 2\, București 030167\, București\, Sector 3\, 030167\, Romania
CATEGORIES:Atelier
ATTACH;FMTTYPE=image/jpeg:https://stiudelasorina.ro/wp-content/uploads/2026/01/622310826_1505866244877653_3449804760109553443_n.jpg
END:VEVENT
END:VCALENDAR