BEGIN:VCALENDAR
VERSION:2.0
PRODID:-//Mami, tati, unde mergem azi? - ECPv6.6.3//NONSGML v1.0//EN
CALSCALE:GREGORIAN
METHOD:PUBLISH
X-ORIGINAL-URL:https://stiudelasorina.ro
X-WR-CALDESC:Events for Mami, tati, unde mergem azi?
REFRESH-INTERVAL;VALUE=DURATION:PT1H
X-Robots-Tag:noindex
X-PUBLISHED-TTL:PT1H
BEGIN:VTIMEZONE
TZID:Europe/Bucharest
BEGIN:DAYLIGHT
TZOFFSETFROM:+0200
TZOFFSETTO:+0300
TZNAME:EEST
DTSTART:20260329T010000
END:DAYLIGHT
BEGIN:STANDARD
TZOFFSETFROM:+0300
TZOFFSETTO:+0200
TZNAME:EET
DTSTART:20261025T010000
END:STANDARD
END:VTIMEZONE
BEGIN:VEVENT
DTSTART;TZID=Europe/Bucharest:20260405T110000
DTEND;TZID=Europe/Bucharest:20260405T123000
DTSTAMP:20260421T203942
CREATED:20260204T044616Z
LAST-MODIFIED:20260204T044616Z
UID:10008657-1775386800-1775392200@stiudelasorina.ro
SUMMARY:Frumoasa din pădurea adormită
DESCRIPTION:Frumoasa din pădurea adormită\, Balet\, +3 ani\, Sala Mare \nDurata: 85 de minute \nUn deget înțepat. O lume întreagă adormită. Și o singură speranță: ca vraja să fie ruptă. „Frumoasa din pădurea adormită” este acea celebră poveste a copilăriei care continuă să ne vorbească\, cu aceeași intensitate\, printr-un limbaj care nu se demodează niciodată: muzica\, mișcarea\, emoția trăită împreună. În această versiune coregrafică\, spectacolul devine o orchestrație vizuală\, în care fiecare gest\, lumină și moment scenic respiră în ritmul grandios al muzicii lui Ceaikovski. O muzică atât de plastică și molipsitoare\, încât pare că desenează pe scenă ceea ce cuvintele nu mai pot spune: spaimele și visurile copilăriei\, lupta dintre întuneric și lumină\, puterea frumuseții care nu are nevoie de glas. „Frumoasa din pădurea adormită” este despre cum timpul se oprește când uităm să visăm\, dar și despre cum renaștem când ceva – sau cineva – ne aduce înapoi la noi. Un spectacol care nu cere să crezi în magie\, ci te face să o recunoști. \n\n\n\n\n\n\n\n\n\n Favorite
URL:https://stiudelasorina.ro/event/frumoasa-din-padurea-adormita-6/
LOCATION:Opera Comică pentru Copii\, Calea Giulești 16\, București 060276\, București\, Sector 6\, 060276
CATEGORIES:Spectacol
ATTACH;FMTTYPE=image/jpeg:https://stiudelasorina.ro/wp-content/uploads/2026/02/1751532715-769.jpg
END:VEVENT
BEGIN:VEVENT
DTSTART;TZID=Europe/Bucharest:20260405T110000
DTEND;TZID=Europe/Bucharest:20260405T123000
DTSTAMP:20260421T203942
CREATED:20250127T073132Z
LAST-MODIFIED:20260319T042501Z
UID:10003093-1775386800-1775392200@stiudelasorina.ro
SUMMARY:Best of Metropolitan
DESCRIPTION:BEST OF: Un tribut artiștilor Circului Metropolitan București \nÎn spatele fiecărei mari reușite se află o poveste\, iar în spectacolul BEST OF\, te invităm să descoperi poveștile inedite ale artiștilor de circ. Acești oameni simpli\, care își văd de viață și de meserie fără să caute faima sau recunoașterea\, sunt adevărații eroi ai zilelor noastre. Prin talentul lor și pasiunea pentru ceea ce fac\, ei reușesc să încânte publicul și să ne inspire cu fiecare număr. Spectacolul BEST OF este o oportunitate unică de a aplauda aceste personaje extraordinare\, de a le recunoaște munca și dedicarea într-o lume a circului care le este atât de dragă. \n AUDIENȚĂ GENERALĂ \nDurata spectacol 90 minute(spectacolul are și pauză de 15 minute) \nCopiii în vârstă de până la 2 ani beneficiază de gratuitate la intrare\, dar fără loc asigurat în sala de spectacol(copiii vor fi ținuți în brațe de către părinți). \n Favorite
URL:https://stiudelasorina.ro/event/best-of-metropolitan-4/
LOCATION:Circul Metropolitan Bucuresti\, Aleea Circului 15\, București 021103\, București\, Sector 2\, 021103
CATEGORIES:Spectacol
ATTACH;FMTTYPE=image/jpeg:https://stiudelasorina.ro/wp-content/uploads/2025/01/595210396_1467551268706346_1734087257891753864_n.jpg
END:VEVENT
BEGIN:VEVENT
DTSTART;TZID=Europe/Bucharest:20260405T120000
DTEND;TZID=Europe/Bucharest:20260405T130000
DTSTAMP:20260421T203942
CREATED:20260327T014031Z
LAST-MODIFIED:20260327T014041Z
UID:10009633-1775390400-1775394000@stiudelasorina.ro
SUMMARY:Tzitzi și oul de Paște
DESCRIPTION:„Tzitzi și oul de Paște” este un spectacol interactiv pentru copii\, plin de culoare și învățăminte despre tradiții\, responsabilitate și ascultare. \nAlături de iepurașul năzdrăvan Tzitzi și de mămica lui grijulie\, cei mici pornesc într-o aventură de Paște în care un lup viclean încearcă să fure ouăle… dar nu pentru mult timp! \n\n\n\nCu ajutorul copiilor din public\, cei doi îi dau o lecție pe măsură și descoperă împreună cât de important este să fii atent\, bun și responsabil.\n\nUn spectacol live interactiv\, cu actori și mascote\, completat de muzică originală\, în care copiii devin parte din poveste și trăiesc magia sărbătorilor de Paște!\n\n\n\n Favorite
URL:https://stiudelasorina.ro/event/tzitzi-si-oul-de-paste/
LOCATION:Teatrul Infinit\, Strada Mihai Eminescu 127\, București 030167\, București\, Sector 3\, 030167\, Romania
CATEGORIES:Spectacol
ATTACH;FMTTYPE=image/png:https://stiudelasorina.ro/wp-content/uploads/2026/03/https___static3.iabilet.ro_img_db_event_01_e8_34_00000392408-106d.png
END:VEVENT
BEGIN:VEVENT
DTSTART;TZID=Europe/Bucharest:20260417T170000
DTEND;TZID=Europe/Bucharest:20260417T183000
DTSTAMP:20260421T203942
CREATED:20260108T043611Z
LAST-MODIFIED:20260317T044437Z
UID:10008049-1776445200-1776450600@stiudelasorina.ro
SUMMARY:Bubu la Mare
DESCRIPTION:2 spectacole\, de la orele 17 și 18 \nBubu la mare\, spectacol senzorial și muzical pentru spectatori 0 – 3 ani\, Sala Undergrant \nDurata: 40 minute \nDescriere: Această nouă aventură a lui Bubu\, prietenul drag al bebelușilor\, se desfăşoară\, de această dată\, pe acordurile unor pagini celebre semnate de Antonio Vivaldi\, Edvard Grieg\, Wolfgang Amadeus Mozart\, Ludwig van Beethoven şi Damian Vlad\, adaptate special pentru urechile celor mici. Mera şi micuțul și rotundul explorator descoperă în acest spectacol o lume întreagă sub valurile mării. Vii și tu în această călătorie? \n  \n– Un bilet oferă acces pentru 1 copil și 1 părinte.\n– Spectacolul are loc într-un spațiu sigur și prietenos\, special gândit pentru cei mai mici spectatori.\n– Accesul în spațiul de joc se face fără încălțăminte\, atât pentru copii\, cât și pentru părinți. Dacă doiți\, puteți să aduceți încălțăminte de schimb (șosete antiderapante sau papuci curați).\n– Nu este permis accesul cu mâncare sau băuturi în spațiul de joc.\n– Veți găsi la intrare un spațiu dedicat pentru depozitarea încălțămintei și a altor obiecte personale. \n Favorite
URL:https://stiudelasorina.ro/event/bubu-la-zoo-4/
LOCATION:Opera Comică pentru Copii\, Calea Giulești 16\, București 060276\, București\, Sector 6\, 060276
CATEGORIES:Spectacol
ATTACH;FMTTYPE=image/jpeg:https://stiudelasorina.ro/wp-content/uploads/2026/01/1751534641-103.jpg
END:VEVENT
BEGIN:VEVENT
DTSTART;TZID=Europe/Bucharest:20260418T100000
DTEND;TZID=Europe/Bucharest:20260418T110000
DTSTAMP:20260421T203942
CREATED:20260325T034922Z
LAST-MODIFIED:20260325T034922Z
UID:10009582-1776506400-1776510000@stiudelasorina.ro
SUMMARY:Poveşti cu umbrele şi umbre
DESCRIPTION:Sâmbătă\, 18 aprilie\, ora 10.00\,vă invităm la spectacolul“Poveşti cu umbrele şi umbre”\,recomandat copiilor cu vârste între 1-5 ani.Un spectacol plin de imaginaţie şi culoare\, dar şi de mister pentru cei mici şi mari. Cu ajutorul umbrelelor şi nu numai\, vom crea poveşti din imagini. Vino\, să vezi în ce se poate transforma o umbrelă!Cost bilet un copil+un părinte: 100 lei.Cost bilet un copil+doi părinți: 110 leiCel de-al doilea copil al familiei: 50 lei.Adresa: Hotel Caro\, sala Iorga\, Bd. Barbu Văcărescu nr. 164 A\, sector 2\, Bucureşti.Înscrieri: rusunicoleta3@gmail.com\, tapusele@gmail.com\n\n\n\n\n\n\n\n\n\n\n\n\n\n\n\n\n Favorite
URL:https://stiudelasorina.ro/event/povesti-cu-umbrele-si-umbre/
LOCATION:Hotel Caro\, Str. Barbu Văcărescu 164A\, București 020285\, București\, Sector 2\, 020285
CATEGORIES:Spectacol
ATTACH;FMTTYPE=image/jpeg:https://stiudelasorina.ro/wp-content/uploads/2026/03/656732368_957711656775960_638603482287243318_n.jpg
END:VEVENT
BEGIN:VEVENT
DTSTART;TZID=Europe/Bucharest:20260418T100000
DTEND;TZID=Europe/Bucharest:20260418T183000
DTSTAMP:20260421T203942
CREATED:20260108T043619Z
LAST-MODIFIED:20260317T044444Z
UID:10008050-1776506400-1776537000@stiudelasorina.ro
SUMMARY:Bubu la Mare
DESCRIPTION:6 spectacole\, de la orele 10\, 11\, 12\, 16\, 17 și 18 \nBubu la mare\, spectacol senzorial și muzical pentru spectatori 0 – 3 ani\, Sala Undergrant \nDurata: 40 minute \nDescriere: Această nouă aventură a lui Bubu\, prietenul drag al bebelușilor\, se desfăşoară\, de această dată\, pe acordurile unor pagini celebre semnate de Antonio Vivaldi\, Edvard Grieg\, Wolfgang Amadeus Mozart\, Ludwig van Beethoven şi Damian Vlad\, adaptate special pentru urechile celor mici. Mera şi micuțul și rotundul explorator descoperă în acest spectacol o lume întreagă sub valurile mării. Vii și tu în această călătorie? \n  \n– Un bilet oferă acces pentru 1 copil și 1 părinte.\n– Spectacolul are loc într-un spațiu sigur și prietenos\, special gândit pentru cei mai mici spectatori.\n– Accesul în spațiul de joc se face fără încălțăminte\, atât pentru copii\, cât și pentru părinți. Dacă doiți\, puteți să aduceți încălțăminte de schimb (șosete antiderapante sau papuci curați).\n– Nu este permis accesul cu mâncare sau băuturi în spațiul de joc.\n– Veți găsi la intrare un spațiu dedicat pentru depozitarea încălțămintei și a altor obiecte personale. \n Favorite
URL:https://stiudelasorina.ro/event/bubu-la-zoo-5/
LOCATION:Opera Comică pentru Copii\, Calea Giulești 16\, București 060276\, București\, Sector 6\, 060276
CATEGORIES:Spectacol
ATTACH;FMTTYPE=image/jpeg:https://stiudelasorina.ro/wp-content/uploads/2026/01/1751534641-103.jpg
END:VEVENT
BEGIN:VEVENT
DTSTART;TZID=Europe/Bucharest:20260419T100000
DTEND;TZID=Europe/Bucharest:20260419T183000
DTSTAMP:20260421T203942
CREATED:20260108T043631Z
LAST-MODIFIED:20260317T044503Z
UID:10008051-1776592800-1776623400@stiudelasorina.ro
SUMMARY:Bubu la Mare
DESCRIPTION:6 spectacole\, de la orele 10\, 11\, 12\, 16\, 17 și 18 \nBubu la mare\, spectacol senzorial și muzical pentru spectatori 0 – 3 ani\, Sala Undergrant \nDurata: 40 minute \nDescriere: Această nouă aventură a lui Bubu\, prietenul drag al bebelușilor\, se desfăşoară\, de această dată\, pe acordurile unor pagini celebre semnate de Antonio Vivaldi\, Edvard Grieg\, Wolfgang Amadeus Mozart\, Ludwig van Beethoven şi Damian Vlad\, adaptate special pentru urechile celor mici. Mera şi micuțul și rotundul explorator descoperă în acest spectacol o lume întreagă sub valurile mării. Vii și tu în această călătorie? \n  \n– Un bilet oferă acces pentru 1 copil și 1 părinte.\n– Spectacolul are loc într-un spațiu sigur și prietenos\, special gândit pentru cei mai mici spectatori.\n– Accesul în spațiul de joc se face fără încălțăminte\, atât pentru copii\, cât și pentru părinți. Dacă doiți\, puteți să aduceți încălțăminte de schimb (șosete antiderapante sau papuci curați).\n– Nu este permis accesul cu mâncare sau băuturi în spațiul de joc.\n– Veți găsi la intrare un spațiu dedicat pentru depozitarea încălțămintei și a altor obiecte personale. \n Favorite
URL:https://stiudelasorina.ro/event/bubu-la-zoo-6/
LOCATION:Opera Comică pentru Copii\, Calea Giulești 16\, București 060276\, București\, Sector 6\, 060276
CATEGORIES:Spectacol
ATTACH;FMTTYPE=image/jpeg:https://stiudelasorina.ro/wp-content/uploads/2026/01/1751534641-103.jpg
END:VEVENT
BEGIN:VEVENT
DTSTART;TZID=Europe/Bucharest:20260419T103000
DTEND;TZID=Europe/Bucharest:20260419T113000
DTSTAMP:20260421T203942
CREATED:20260317T051808Z
LAST-MODIFIED:20260317T051808Z
UID:10009459-1776594600-1776598200@stiudelasorina.ro
SUMMARY:Ursul păcălit de Vulpe
DESCRIPTION:Povestea “Ursul păcălit de Vulpe” revine la Salina by ABC într-un spectacol interactiv\, plin de momente amuzante\, lecții valoroase despre prietenie și încredere și dialoguri jucăușe care îi vor ține pe cei mici atenți și implicați în poveste.  \nRecomandat copiilor între 2 și 7 ani\, spectacolul este o ocazie minunată de a îmbina distracția cu timpul de calitate în familie\, într-un decor special cu aer curat și sarea vindecătoare din mina de la Praid și de Himalaya.      \nPentru că locurile sunt limitate\, te invităm să rezervi biletele din timp și să te pregătești pentru o aventură distractivă alături de micuțul tău.    \nVă așteptăm cu bucurie la salinoterapie cu veselie și multă magie!    \nCumpără un bilet copil (65 de lei) + un bilet adult însoțitor (70 de lei) și oferă-i copilului tău o experiență completă: spectacol\, veselie și sănătate\, toate împachetate într-o experiență captivantă!    \nÎn cazul în care nu se atinge numărul minim de 10 copii înscriși\, evenimentul ar putea fi amânat. În această situație\, aveți opțiunea de a primi înapoi suma achitată pentru bilete sau de a reprograma participarea pentru săptămâna viitoare\, conform disponibilității. \nÎnainte de a face rezervarea\, verifică cu medicul de familie dacă tu sau micuțul tău aveți contraindicații pentru salinoterapie. \n* Prețul biletului este pentru un copil. \n**Recomandat pentru copiii cu vârsta între 2 și 7 ani \n***Locurile sunt limitate! Capacitate salinei este de 20 de părinți \n****Sună & WhatsApp pentru achiziția biletelor: 0733 809 377  \n Favorite
URL:https://stiudelasorina.ro/event/ursul-pacalit-de-vulpe-2/
LOCATION:Salina by ABC\, Strada Delea Nouă 15\, București 030924\, București\, Sector 3\, 030924
CATEGORIES:Spectacol
ATTACH;FMTTYPE=image/webp:https://stiudelasorina.ro/wp-content/uploads/2026/03/ursul-pacalit-de-vulpe_02544d289b2499a2014b15dbc681aa7f.webp
END:VEVENT
BEGIN:VEVENT
DTSTART;TZID=Europe/Bucharest:20260419T120000
DTEND;TZID=Europe/Bucharest:20260419T130000
DTSTAMP:20260421T203942
CREATED:20260417T052707Z
LAST-MODIFIED:20260417T052717Z
UID:10010031-1776600000-1776603600@stiudelasorina.ro
SUMMARY:Teatru pentru copii - Capra cu trei iezi
DESCRIPTION:Spectacol pentru copii\n“Capra cu trei iezi”\nOrele 12\,00 !\nDuminica\, 19 aprilie\nLa Restaurant Dines Parcul Carol\nNe vom amuza împreună cu lupul\, îi vom oferi o lectie gratuită de canto și îl vom învăța să se spele pe dinți.\nLupul cântă\, iezii dansează si distracția e garantată.\n\n\nDonatie recomandata 8 lei.\nVa multumim pentru ca sustineti teatrul pentru copii \nVa asteptam cu drag \n\n Favorite
URL:https://stiudelasorina.ro/event/teatru-pentru-copii/
LOCATION:Restaurant Dineș – Parcul Carol\, Strada Cuțitul de Argint 12\, București 040558\, București\, Sector 4\, 040558
CATEGORIES:Spectacol
ATTACH;FMTTYPE=image/jpeg:https://stiudelasorina.ro/wp-content/uploads/2026/04/670581917_18197757256356843_1997820550948195679_n.jpeg
END:VEVENT
END:VCALENDAR