BEGIN:VCALENDAR
VERSION:2.0
PRODID:-//Mami, tati, unde mergem azi? - ECPv6.6.3//NONSGML v1.0//EN
CALSCALE:GREGORIAN
METHOD:PUBLISH
X-WR-CALNAME:Mami, tati, unde mergem azi?
X-ORIGINAL-URL:https://stiudelasorina.ro
X-WR-CALDESC:Events for Mami, tati, unde mergem azi?
REFRESH-INTERVAL;VALUE=DURATION:PT1H
X-Robots-Tag:noindex
X-PUBLISHED-TTL:PT1H
BEGIN:VTIMEZONE
TZID:Europe/Bucharest
BEGIN:DAYLIGHT
TZOFFSETFROM:+0200
TZOFFSETTO:+0300
TZNAME:EEST
DTSTART:20260329T010000
END:DAYLIGHT
BEGIN:STANDARD
TZOFFSETFROM:+0300
TZOFFSETTO:+0200
TZNAME:EET
DTSTART:20261025T010000
END:STANDARD
END:VTIMEZONE
BEGIN:VEVENT
DTSTART;TZID=Europe/Bucharest:20260601T110000
DTEND;TZID=Europe/Bucharest:20260601T120000
DTSTAMP:20260422T044428
CREATED:20260317T044139Z
LAST-MODIFIED:20260317T044139Z
UID:10009431-1780311600-1780315200@stiudelasorina.ro
SUMMARY:Scufița Roșie
DESCRIPTION:Scufița Roșie\, Balet\, + 3 ani\, Sala Undergrant \n\n\n\nDurata: 60 de minute \nDescriere: Ai văzut vreodată o Scufiță care dansează cu lupii? La Opera Comică pentru Copii\, povestea clasică face un salt surprinzător\, direct într-un spectacol de balet care răstoarnă toate așteptările! Sub bagheta magică a Andreei Soare\, Lupul cel Mare își abandonează rolul de personaj negativ și devine vedeta unui cabaret forestier de zile mari! Alături de alți doi prieteni (tot lupi)\, acest trio irezistibil transformă pădurea într-o scenă de spectacol în care frica nu-și găsește locul. În loc să sperie pădurea\, lupii noștri se comportă ca niște adevărate vedete\, dansând și făcând giumbușlucuri. Călătoria Scufiței se transformă într-o paradă a întâlnirilor fabuloase: o pasăre măiastră\, o floare delicată\, un iepure agil și un urs bonom. Un balet neoclasic îmbibat cu umor\, poezie vizuală și energie contagioasă\, pe care însuși Charles Perrault l-ar aplauda în picioare. Nu rata șansa de a vedea modul creativ în care tradiția și inovația dansează împreună într-o îmbrățișare perfectă! \n\n\n\n Favorite
URL:https://stiudelasorina.ro/event/scufita-rosie-10/
LOCATION:Opera Comică pentru Copii\, Calea Giulești 16\, București 060276\, București\, Sector 6\, 060276
CATEGORIES:Spectacol
ATTACH;FMTTYPE=image/jpeg:https://stiudelasorina.ro/wp-content/uploads/2026/03/1751532660-889.jpg
END:VEVENT
BEGIN:VEVENT
DTSTART;TZID=Europe/Bucharest:20260601T110000
DTEND;TZID=Europe/Bucharest:20260601T133000
DTSTAMP:20260422T044428
CREATED:20260317T045205Z
LAST-MODIFIED:20260317T045205Z
UID:10009441-1780311600-1780320600@stiudelasorina.ro
SUMMARY:Matilda
DESCRIPTION:Matilda\, Musical\, +7 ani\, Sala Mare \n\n\n\n\n\n\nDurata: 150 de minute \nMatilda\, the Musical este mai mult decât o simplă poveste; este o călătorie care te va inspira să crezi în tine și să-ți cunoști potențialul\,chiar dacă pare imposibil. O fetiță extraordinară\, cu o inteligență sclipitoare\, Matilda este o cititoare avidă\, cărţile oferindu-i forţa de a-şi schimba destinul. În pofida unei familii ostile\, Matilda își descoperă puterile speciale și îşi folosește imaginația și curajul pentru a depăși cu succes toate obstacolele din calea sa. \n\n\n\n\n\n\n\n\n\n\n\n\n\n\n\n\n\n\n Favorite
URL:https://stiudelasorina.ro/event/matilda-3/
LOCATION:Opera Comică pentru Copii\, Calea Giulești 16\, București 060276\, București\, Sector 6\, 060276
CATEGORIES:Spectacol
ATTACH;FMTTYPE=image/jpeg:https://stiudelasorina.ro/wp-content/uploads/2026/03/1771941330-151.jpg
END:VEVENT
BEGIN:VEVENT
DTSTART;TZID=Europe/Bucharest:20260601T170000
DTEND;TZID=Europe/Bucharest:20260601T180000
DTSTAMP:20260422T044428
CREATED:20260317T044241Z
LAST-MODIFIED:20260317T044241Z
UID:10009436-1780333200-1780336800@stiudelasorina.ro
SUMMARY:Scufița Roșie
DESCRIPTION:Scufița Roșie\, Balet\, + 3 ani\, Sala Undergrant \n\n\n\nDurata: 60 de minute \nDescriere: Ai văzut vreodată o Scufiță care dansează cu lupii? La Opera Comică pentru Copii\, povestea clasică face un salt surprinzător\, direct într-un spectacol de balet care răstoarnă toate așteptările! Sub bagheta magică a Andreei Soare\, Lupul cel Mare își abandonează rolul de personaj negativ și devine vedeta unui cabaret forestier de zile mari! Alături de alți doi prieteni (tot lupi)\, acest trio irezistibil transformă pădurea într-o scenă de spectacol în care frica nu-și găsește locul. În loc să sperie pădurea\, lupii noștri se comportă ca niște adevărate vedete\, dansând și făcând giumbușlucuri. Călătoria Scufiței se transformă într-o paradă a întâlnirilor fabuloase: o pasăre măiastră\, o floare delicată\, un iepure agil și un urs bonom. Un balet neoclasic îmbibat cu umor\, poezie vizuală și energie contagioasă\, pe care însuși Charles Perrault l-ar aplauda în picioare. Nu rata șansa de a vedea modul creativ în care tradiția și inovația dansează împreună într-o îmbrățișare perfectă! \n\n\n\n Favorite
URL:https://stiudelasorina.ro/event/scufita-rosie-15/
LOCATION:Opera Comică pentru Copii\, Calea Giulești 16\, București 060276\, București\, Sector 6\, 060276
CATEGORIES:Spectacol
ATTACH;FMTTYPE=image/jpeg:https://stiudelasorina.ro/wp-content/uploads/2026/03/1751532660-889.jpg
END:VEVENT
BEGIN:VEVENT
DTSTART;TZID=Europe/Bucharest:20260601T170000
DTEND;TZID=Europe/Bucharest:20260601T193000
DTSTAMP:20260422T044428
CREATED:20260317T045344Z
LAST-MODIFIED:20260317T045344Z
UID:10009448-1780333200-1780342200@stiudelasorina.ro
SUMMARY:Matilda
DESCRIPTION:Matilda\, Musical\, +7 ani\, Sala Mare \n\n\n\n\n\n\nDurata: 150 de minute \nMatilda\, the Musical este mai mult decât o simplă poveste; este o călătorie care te va inspira să crezi în tine și să-ți cunoști potențialul\,chiar dacă pare imposibil. O fetiță extraordinară\, cu o inteligență sclipitoare\, Matilda este o cititoare avidă\, cărţile oferindu-i forţa de a-şi schimba destinul. În pofida unei familii ostile\, Matilda își descoperă puterile speciale și îşi folosește imaginația și curajul pentru a depăși cu succes toate obstacolele din calea sa. \n\n\n\n\n\n\n\n\n\n\n\n\n\n\n\n\n\n\n Favorite
URL:https://stiudelasorina.ro/event/matilda-10/
LOCATION:Opera Comică pentru Copii\, Calea Giulești 16\, București 060276\, București\, Sector 6\, 060276
CATEGORIES:Spectacol
ATTACH;FMTTYPE=image/jpeg:https://stiudelasorina.ro/wp-content/uploads/2026/03/1771941330-151.jpg
END:VEVENT
END:VCALENDAR