BEGIN:VCALENDAR
VERSION:2.0
PRODID:-//Mami, tati, unde mergem azi? - ECPv6.6.3//NONSGML v1.0//EN
CALSCALE:GREGORIAN
METHOD:PUBLISH
X-WR-CALNAME:Mami, tati, unde mergem azi?
X-ORIGINAL-URL:https://stiudelasorina.ro
X-WR-CALDESC:Events for Mami, tati, unde mergem azi?
REFRESH-INTERVAL;VALUE=DURATION:PT1H
X-Robots-Tag:noindex
X-PUBLISHED-TTL:PT1H
BEGIN:VTIMEZONE
TZID:Europe/Bucharest
BEGIN:DAYLIGHT
TZOFFSETFROM:+0200
TZOFFSETTO:+0300
TZNAME:EEST
DTSTART:20260329T010000
END:DAYLIGHT
BEGIN:STANDARD
TZOFFSETFROM:+0300
TZOFFSETTO:+0200
TZNAME:EET
DTSTART:20261025T010000
END:STANDARD
END:VTIMEZONE
BEGIN:VEVENT
DTSTART;TZID=Europe/Bucharest:20260515T183000
DTEND;TZID=Europe/Bucharest:20260515T193000
DTSTAMP:20260422T030706
CREATED:20260317T043054Z
LAST-MODIFIED:20260317T043054Z
UID:10009406-1778869800-1778873400@stiudelasorina.ro
SUMMARY:Don Quijote
DESCRIPTION:Don Quijote\, Balet\, +3 ani\, Sala Mare \nDurata: 60 de minute \nImaginează-ți un cavaler puțin ciudat\, pe nume Don Quijote\, cu o inima mare și cu un curaj fără limită. El e foarte înalt și slab (și pentru că mănâncă puțin…) și are o sabie cu care se luptă cu morile de vânt\, crezând că sunt uriași! Dar asta nu-l oprește să viseze tot timpul la iubita sa\, frumoasa Dulcineea. Haideți să-l cunoașteți pe formidabilul Don Quijote\, eroul nostru\, care transformă realitatea și care visează să trăiască aventuri eroice și să salveze prințese! Împreună cu prietenul său credincios\, Sancho Panza\, Don Quijote călătorește prin locuri pline de culoare și magie. Cu muzica strălucitoare a lui Ludwig Minkus și cu dansuri spectaculoase\, baletul Don Quijote este o poveste veselă și plină de viață\, despre prietenie\, dragoste și puterea de a visa mereu cu ochii deschiși. Așa că pregătește-te să intri într-o lume plină de magie și umor\, unde fiecare pas de dans este o aventură\, iar orice vis poate deveni realitate! \n Favorite
URL:https://stiudelasorina.ro/event/don-quijote/
LOCATION:Opera Comică pentru Copii\, Calea Giulești 16\, București 060276\, București\, Sector 6\, 060276
CATEGORIES:Spectacol
ATTACH;FMTTYPE=image/jpeg:https://stiudelasorina.ro/wp-content/uploads/2026/03/1751534472-231.jpg
END:VEVENT
BEGIN:VEVENT
DTSTART;TZID=Europe/Bucharest:20260515T190000
DTEND;TZID=Europe/Bucharest:20260515T194000
DTSTAMP:20260422T030706
CREATED:20260317T043319Z
LAST-MODIFIED:20260317T043319Z
UID:10009410-1778871600-1778874000@stiudelasorina.ro
SUMMARY:Onix și Barton
DESCRIPTION:Onix și Barton\, Musical\, + 3 ani\, Sala Undergrant \n\n\n\nDurata: 40 de minute \nDescriere: În lumea colorată și plină de surprize a Operei Comice pentru Copii\, un nou spectacol muzical își deschide cortina pentru a-i încânta atât pe cei mici\, cât și pe cei mai mari. Onix și Barton este o producție modernă ce îmbină arta mânuirii păpuşilor şi marionetelor cu muzica actuală și proiecțiile multimedia\, creând o experiență teatrală unică. Într-un decor familiar și vesel\, vei urmări experienţele palpitante ale unei pisicuțe pierdute și ale unui cățel vagabond care\, împreună cu doi papagali gălăgioși\, vor încerca să se întoarcă acasă. \n Favorite
URL:https://stiudelasorina.ro/event/onix-si-barton/
LOCATION:Opera Comică pentru Copii\, Calea Giulești 16\, București 060276\, București\, Sector 6\, 060276
CATEGORIES:Spectacol
ATTACH;FMTTYPE=image/jpeg:https://stiudelasorina.ro/wp-content/uploads/2026/03/1751534838-320.jpg
END:VEVENT
END:VCALENDAR