BEGIN:VCALENDAR
VERSION:2.0
PRODID:-//Mami, tati, unde mergem azi? - ECPv6.6.3//NONSGML v1.0//EN
CALSCALE:GREGORIAN
METHOD:PUBLISH
X-WR-CALNAME:Mami, tati, unde mergem azi?
X-ORIGINAL-URL:https://stiudelasorina.ro
X-WR-CALDESC:Events for Mami, tati, unde mergem azi?
REFRESH-INTERVAL;VALUE=DURATION:PT1H
X-Robots-Tag:noindex
X-PUBLISHED-TTL:PT1H
BEGIN:VTIMEZONE
TZID:Europe/Bucharest
BEGIN:DAYLIGHT
TZOFFSETFROM:+0200
TZOFFSETTO:+0300
TZNAME:EEST
DTSTART:20260329T010000
END:DAYLIGHT
BEGIN:STANDARD
TZOFFSETFROM:+0300
TZOFFSETTO:+0200
TZNAME:EET
DTSTART:20261025T010000
END:STANDARD
END:VTIMEZONE
BEGIN:VEVENT
DTSTART;TZID=Europe/Bucharest:20260424T170000
DTEND;TZID=Europe/Bucharest:20260424T183000
DTSTAMP:20260421T175309
CREATED:20260108T044443Z
LAST-MODIFIED:20260317T044819Z
UID:10008070-1777050000-1777055400@stiudelasorina.ro
SUMMARY:Bubu la Mare
DESCRIPTION:2 spectacole\, de la orele 17 și 18 \nBubu la mare\, spectacol senzorial și muzical pentru spectatori 0 – 3 ani\, Sala Undergrant \nDurata: 40 minute \nDescriere: Această nouă aventură a lui Bubu\, prietenul drag al bebelușilor\, se desfăşoară\, de această dată\, pe acordurile unor pagini celebre semnate de Antonio Vivaldi\, Edvard Grieg\, Wolfgang Amadeus Mozart\, Ludwig van Beethoven şi Damian Vlad\, adaptate special pentru urechile celor mici. Mera şi micuțul și rotundul explorator descoperă în acest spectacol o lume întreagă sub valurile mării. Vii și tu în această călătorie? \n  \n– Un bilet oferă acces pentru 1 copil și 1 părinte.\n– Spectacolul are loc într-un spațiu sigur și prietenos\, special gândit pentru cei mai mici spectatori.\n– Accesul în spațiul de joc se face fără încălțăminte\, atât pentru copii\, cât și pentru părinți. Dacă doiți\, puteți să aduceți încălțăminte de schimb (șosete antiderapante sau papuci curați).\n– Nu este permis accesul cu mâncare sau băuturi în spațiul de joc.\n– Veți găsi la intrare un spațiu dedicat pentru depozitarea încălțămintei și a altor obiecte personale. \n Favorite
URL:https://stiudelasorina.ro/event/bubu-si-anotimpurile/
LOCATION:Opera Comică pentru Copii\, Calea Giulești 16\, București 060276\, București\, Sector 6\, 060276
CATEGORIES:Spectacol
ATTACH;FMTTYPE=image/jpeg:https://stiudelasorina.ro/wp-content/uploads/2026/01/1751534641-103.jpg
END:VEVENT
BEGIN:VEVENT
DTSTART;TZID=Europe/Bucharest:20260424T183000
DTEND;TZID=Europe/Bucharest:20260424T193000
DTSTAMP:20260421T175309
CREATED:20260317T041746Z
LAST-MODIFIED:20260317T041819Z
UID:10009393-1777055400-1777059000@stiudelasorina.ro
SUMMARY:Gianni Schicchi
DESCRIPTION:Gianni Schicchi\, Opera\, +7 ani\, Sala Mare \n\n\n\nDurata: 60 de minute \nDescriere: Cine ar fi crezut că o poveste despre moșteniri și rude avide poate fi atât de savuroasă? Opera Comică pentru Copii te invită la premiera capodoperei lui Giacomo Puccini\, „Gianni Schicchi”\, sub bagheta regizorală a vizionarului Cristian Mihăilescu. Urmărește-l pe ingeniosul Schicchi\, un veritabil Păcală al Florenței medievale\, care pune la cale cea mai strălucită farsă în beneficiul îndrăgostiților și în detrimentul unei familii consumate de avariție. Cu o muzică ce îmbină momentele comice savuroase cu sublima arie „O mio babbino caro”\, această producție promite un carusel de emoții\, râsete și surprize. Cristian Mihăilescu aduce pe scenă un spectacol dinamic\, plin de culoare și umor subtil\, în care personajele prind viață într-o explozie de energie și creativitate. Un regal muzical care îți va rămâne în suflet pentru totdeauna. \n\n\n\n\n\n\n\n\n\n\n\n\n Favorite
URL:https://stiudelasorina.ro/event/gianni-schicchi/
LOCATION:Opera Comică pentru Copii\, Calea Giulești 16\, București 060276\, București\, Sector 6\, 060276
CATEGORIES:Spectacol
ATTACH;FMTTYPE=image/jpeg:https://stiudelasorina.ro/wp-content/uploads/2026/03/descarcare-2.jpeg
END:VEVENT
BEGIN:VEVENT
DTSTART;TZID=Europe/Bucharest:20260424T190000
DTEND;TZID=Europe/Bucharest:20260424T220000
DTSTAMP:20260421T175309
CREATED:20251008T024812Z
LAST-MODIFIED:20260401T034121Z
UID:10006464-1777057200-1777068000@stiudelasorina.ro
SUMMARY:Apolodor - Un pinguin călător
DESCRIPTION:O adaptare după poemul epic ”Cartea cu Apolodor” de Gellu Naum \nÎn premieră pe scenă care a inspirat celebra poveste\nTEATRU | CIRC | MUZICĂ | LIVE \nECHIPA: \nActori \nMihai Niță\nAlexandra Murăruș\nSilva Helena Schmidt\nCătălin Vîlcu\nȘtefan Voicu\nCorin Popescu\nVictoria Ionescu\nTeodora Oancea \nOrchestra \nAndreea Csibi – pian\nAndrei Paraschiv – percuție\nLavinia Săteanu – vioară\nClaudiu Mirea – chitară\nVladi Săteanu – chitară bass \nEchipa de creație \nAma Butoiescu – consultant artistic pentru numerele de circ\nKrista Sandu – coregrafia\nAndreea Csibi – pregătire muzicală\nRadu Ion – director muzical\nIrenne Costin – scenografia \nVeronica Râpă – light design\nRadu Nechit – video mapping \nTeodora Moscal – Producător executiv\nIonuț Ionescu – Producător executiv \nUn spectacol explorat de George Costin \nAPOLODOR – o producție Liberi Solis în colaborare cu Circul Metropolitan București.\nSpectacolul este realizat cu susținerea Grawe România\, în parteneriat cu Radio Guerrilla. \nLiberi Solis\n2025 \n Favorite
URL:https://stiudelasorina.ro/event/apolodor-un-pinguin-calator/
LOCATION:Circul Metropolitan Bucuresti\, Aleea Circului 15\, București 021103\, București\, Sector 2\, 021103
CATEGORIES:Spectacol
ATTACH;FMTTYPE=image/jpeg:https://stiudelasorina.ro/wp-content/uploads/2025/10/618721378_1503289648465841_8272456126954054375_n.jpg
END:VEVENT
END:VCALENDAR