BEGIN:VCALENDAR
VERSION:2.0
PRODID:-//Mami, tati, unde mergem azi? - ECPv6.6.3//NONSGML v1.0//EN
CALSCALE:GREGORIAN
METHOD:PUBLISH
X-ORIGINAL-URL:https://stiudelasorina.ro
X-WR-CALDESC:Events for Mami, tati, unde mergem azi?
REFRESH-INTERVAL;VALUE=DURATION:PT1H
X-Robots-Tag:noindex
X-PUBLISHED-TTL:PT1H
BEGIN:VTIMEZONE
TZID:Europe/Bucharest
BEGIN:DAYLIGHT
TZOFFSETFROM:+0200
TZOFFSETTO:+0300
TZNAME:EEST
DTSTART:20260329T010000
END:DAYLIGHT
BEGIN:STANDARD
TZOFFSETFROM:+0300
TZOFFSETTO:+0200
TZNAME:EET
DTSTART:20261025T010000
END:STANDARD
END:VTIMEZONE
BEGIN:VEVENT
DTSTART;TZID=Europe/Bucharest:20260423T183000
DTEND;TZID=Europe/Bucharest:20260423T201500
DTSTAMP:20260421T161717
CREATED:20260218T051238Z
LAST-MODIFIED:20260218T051238Z
UID:10008981-1776969000-1776975300@stiudelasorina.ro
SUMMARY:Frumoasa și Bestia
DESCRIPTION:Musicalul “FRUMOASA ȘI BESTIA” vine în PREMIERĂ \, dupa zecile de reprezentații avute pe marile scene Broadway\, West End\, Grand Via…..\, la TEATRUL DE REVISTĂ “ CONSTANTIN TĂNASE” din București pe 23 Aprilie 2026 de la ora 18\,30 .\n\n\n  \nTheater du Soleil Entertainment vă răsfaţă cu o nouă producţie dinamică\, plină de culoare şi emoţie. „Frumoasa şi Bestia” redă cu măiestrie una dintre cele mai îndrăgite poveşti ale copilăriei\, într-un MUSICALLIVE\, în care personajele prind viaţă\, care îi va transporta pe spectatori pe un tărâm de basm. \nDupă reprezentațiile de succes de până acum\, avute pe marile scene\, spectacolul vine la București\, cu o adevărată surpriză. \nEste un show grandios\, o adaptare de Zully Mustafa și Sergiu Roban\, un MUSICAL LIVE ÎN LIMBA ROMÂNĂ\, momente de dans unice\, costume și decoruri de basm\, care îi vor purta pe cei mici și mari într-o lume de vis\, alături de cele mai îndrăgite personaje: Belle\, Bestia\, Gaston\, Lefou\, Ceainic\, Pămătuf…. și multe altele. \nDe ce nu ar trebui să ratați așa ceva? Vă putem da o mie de motive pentru a fi alături de noi! Însă pentru a vă convinge că într-adevăr trebuie să faceți parte din noua noastră poveste\, vă spunem doar atât: va fi o lume de basm\, din care nu veți mai vrea să ieșiți. Va fi magie\, vor fi decoruri de basm\, proiecții 3D\, va fi cântec și dans. Va fi bucurie! Într-un cuvânt : copilărie! Voi când ați fost ultima oară copii? \nVă așteptăm alături de o echipă de profesioniști. În rolurile principale îi veți putea aplauda pe: Vasile Filipescu/Emil Mitrache (Americanul) – Tatal\, Petru Schindler– Narator/ Librar\, Iulia Miulescu – Belle\, Sergiu Roban – Bestia\, Bogdan Podlovschi / Doru Ciutacu – Ceasornic/ Doctor\, Tomer Jack Weissbuch – Lefou\, Victor Valentin Ion – Gaston\, Teodor Colea / Luana Prodea – Lumierre\, Alina Marina Mirica / Ioana Dragomir – Ceainic\, Diana Maria Colea / Sofia Sânziana – Pămătuf\, Luana Prodea – Fata 1\, Daniela Foiu – Fata 2\, Daniele Foiu – Fata 3 și Dansatorii Scoli de dans Word Dance \nDecorurile au fost o inovație\, folosindu-se tehnica de proiecție high-tech 3D virtual reality background\, combinată cu efecte de lumină și cu elemente de mobilier real. \nVarsta recomandata: 6 ani + \nDurata eveniment: 105 min’ \nScenariul: Zully Mustafa și Sergiu Roban \nRegia: Elena Nicolau \nAsistent Regie : Sergiu Roban \nCoordonator Muzical și Artistic: Sergiu Roban \nTraducere si Adaptare Versuri: Iulia Miulescu si Horia Radu \nCoregrafia: Alina Cimpoieru \nMișcare Scenică: Levi Szasz \nScenografia: Elena Nicolau \nCostume:Camelia Daniela Banu \nLighting Design: Ion Nicolau \nSound Design: Ion Nicolau \nGraphic Design: Studio Graphic Bear \n\n\n\n Favorite
URL:https://stiudelasorina.ro/event/frumoasa-si-bestia-5/
LOCATION:Teatrul de Revistă Constantin Tănase\, Calea Victoriei 33\, București 010061\, București\, Sector 1\, 010061\, Romania
CATEGORIES:Spectacol
ATTACH;FMTTYPE=image/webp:https://stiudelasorina.ro/wp-content/uploads/2026/02/https___static3.iabilet.ro_img_db_event_01_ce_a8_00000364530-1c81.webp
END:VEVENT
END:VCALENDAR