BEGIN:VCALENDAR
VERSION:2.0
PRODID:-//Mami, tati, unde mergem azi? - ECPv6.6.3//NONSGML v1.0//EN
CALSCALE:GREGORIAN
METHOD:PUBLISH
X-WR-CALNAME:Mami, tati, unde mergem azi?
X-ORIGINAL-URL:https://stiudelasorina.ro
X-WR-CALDESC:Events for Mami, tati, unde mergem azi?
REFRESH-INTERVAL;VALUE=DURATION:PT1H
X-Robots-Tag:noindex
X-PUBLISHED-TTL:PT1H
BEGIN:VTIMEZONE
TZID:Europe/Bucharest
BEGIN:DAYLIGHT
TZOFFSETFROM:+0200
TZOFFSETTO:+0300
TZNAME:EEST
DTSTART:20260329T010000
END:DAYLIGHT
BEGIN:STANDARD
TZOFFSETFROM:+0300
TZOFFSETTO:+0200
TZNAME:EET
DTSTART:20261025T010000
END:STANDARD
END:VTIMEZONE
BEGIN:VEVENT
DTSTART;TZID=Europe/Bucharest:20260509T100000
DTEND;TZID=Europe/Bucharest:20260509T130000
DTSTAMP:20260422T101828
CREATED:20260421T024841Z
LAST-MODIFIED:20260421T024850Z
UID:10010057-1778320800-1778331600@stiudelasorina.ro
SUMMARY:Orange Blue la Destiny Park
DESCRIPTION:10% reducere dacă folosești codul SORINA2DESTINY10 la intrare \n\n\n\n\n\n\n\n Pe 9 mai\, trupa fenomen Orange Blue revine la Destiny Park!\nMagia prinde viață pe 9 mai\, la Destiny Park\, alături de Orange Blue! Vino să-i vezi LIVE pe Eugen Anghel\, Ady\, Don Silvio\, Andry și Valeriu Coadă într-o zi de neuitat\, cu două experiențe exclusive special create pentru voi.\n\n\n Biletele sunt disponibile acum – locurile sunt limitate!\nLe poți cumpăra direct la intrarea în Destiny Park sau online:\n bilete.ro/orange-blue-la-destiny-park\n\n\n Meet & Greet cu Orange Blue\n 10:00 – 13:00\nArtiștii preferați ai copiilor tăi\, la un pas distanță! Biletul include:\n• întâlnire cu Orange Blue\n• acces 3 ore la toate activitățile Destiny Park\n• fotografii printate pentru copii\n\n\n Concert VIP Orange Blue\n 18:00 – 21:00 (acces în parc de la 17:30)\nO seară magică alături de Orange Blue – îi vei vedea cântând live\, vei sta cu ei la masă și vă veți distra împreună! Pe lângă concert\, vă așteaptă:\n Pizza bar Volare – cea mai bună pizza din București\n Limonadă pentru cei mici\n Tricou ediție specială Orange Blue x Destiny Park GRATUIT pentru fiecare copil (perfect pentru autografe!)\n\n\n Persoanele cu dizabilități beneficiază de 50% reducere la ambele evenimente\, exclusiv la recepția parcului.\n\n\n\n\n\n\n\n Favorite
URL:https://stiudelasorina.ro/event/orange-blue-la-destiny-park/
LOCATION:Destiny Park\, Calea Ion Zăvoi 8b\, București 015045\, București\, Sector 1\, 015045\, Romania
CATEGORIES:Play session
ATTACH;FMTTYPE=image/jpeg:https://stiudelasorina.ro/wp-content/uploads/2026/04/676293302_1261498609488410_3781316343425128799_n.jpg
END:VEVENT
END:VCALENDAR