BEGIN:VCALENDAR
VERSION:2.0
PRODID:-//Mami, tati, unde mergem azi? - ECPv6.6.3//NONSGML v1.0//EN
CALSCALE:GREGORIAN
METHOD:PUBLISH
X-WR-CALNAME:Mami, tati, unde mergem azi?
X-ORIGINAL-URL:https://stiudelasorina.ro
X-WR-CALDESC:Events for Mami, tati, unde mergem azi?
REFRESH-INTERVAL;VALUE=DURATION:PT1H
X-Robots-Tag:noindex
X-PUBLISHED-TTL:PT1H
BEGIN:VTIMEZONE
TZID:Europe/Bucharest
BEGIN:DAYLIGHT
TZOFFSETFROM:+0200
TZOFFSETTO:+0300
TZNAME:EEST
DTSTART:20260329T010000
END:DAYLIGHT
BEGIN:STANDARD
TZOFFSETFROM:+0300
TZOFFSETTO:+0200
TZNAME:EET
DTSTART:20261025T010000
END:STANDARD
END:VTIMEZONE
BEGIN:VEVENT
DTSTART;TZID=Europe/Bucharest:20260508T180000
DTEND;TZID=Europe/Bucharest:20260508T193000
DTSTAMP:20260422T085442
CREATED:20260408T030800Z
LAST-MODIFIED:20260420T012451Z
UID:10009893-1778263200-1778268600@stiudelasorina.ro
SUMMARY:Spectacol K-POP HUNTERS
DESCRIPTION:SPECTACOL K-POP HUNTERS la @cuibdejoaca • 8 MAI | 18:00-19:30 \n🪩Vino la Petrecerea K-pop unde o sa ai parte de cea mai cool experienta: Concert | Beauty Bar Tematic | Vanatoare de Saja Boys | Dans & Pose Game | Competitie de ramen | Diplome |\nCookies | Apa & Limonada pentru copii \n🪩8 MAi 18:00-19:30\nTe asteptam mai devreme in locatie ca sa se acomodeze copii cu spatiul. Recomandam sa sa sositi la 17:30. \n🎎Dress Code: Poarta costumul preferat. \n🪩Pentru REZERVARE ne puteti scrie pe cuibdejoaca@gmail.com \n🪩Pret: 250 lei (copil+insotitor)\nPretul include: Concert | Beauty Bar Tematic | Vanatoare de Saja Boys | Dans & Pose Game | Competitie de ramen | Diplome | Cookies | Apa & Limonada PENTRU COPII \n Favorite
URL:https://stiudelasorina.ro/event/spectacol-k-pop-hunters/
LOCATION:Cuib de joacă\, Bulevardul Hristo Botev 25\, București 030167\, București\, Sector 3\, 030167\, Romania
CATEGORIES:Atelier,Play session,Spectacol
ATTACH;FMTTYPE=image/jpeg:https://stiudelasorina.ro/wp-content/uploads/2026/04/Screenshot-2026-04-20-042421.jpg
END:VEVENT
END:VCALENDAR