BEGIN:VCALENDAR
VERSION:2.0
PRODID:-//Mami, tati, unde mergem azi? - ECPv6.6.3//NONSGML v1.0//EN
CALSCALE:GREGORIAN
METHOD:PUBLISH
X-WR-CALNAME:Mami, tati, unde mergem azi?
X-ORIGINAL-URL:https://stiudelasorina.ro
X-WR-CALDESC:Events for Mami, tati, unde mergem azi?
REFRESH-INTERVAL;VALUE=DURATION:PT1H
X-Robots-Tag:noindex
X-PUBLISHED-TTL:PT1H
BEGIN:VTIMEZONE
TZID:Europe/Bucharest
BEGIN:DAYLIGHT
TZOFFSETFROM:+0200
TZOFFSETTO:+0300
TZNAME:EEST
DTSTART:20260329T010000
END:DAYLIGHT
BEGIN:STANDARD
TZOFFSETFROM:+0300
TZOFFSETTO:+0200
TZNAME:EET
DTSTART:20261025T010000
END:STANDARD
END:VTIMEZONE
BEGIN:VEVENT
DTSTART;TZID=Europe/Bucharest:20260430T100000
DTEND;TZID=Europe/Bucharest:20260430T190000
DTSTAMP:20260422T012530
CREATED:20251230T054720Z
LAST-MODIFIED:20260417T142722Z
UID:10007843-1777543200-1777575600@stiudelasorina.ro
SUMMARY:Destiny Park – o lume condusă de copii
DESCRIPTION:10% reducere dacă folosești codul SORINA2DESTINY10 la intrare sau pe bilete.ro. \n\n\n\n\n\n\nDestiny Park este primul centru de edutainment (învățare prin joacă) din România și din Europa de Est și se adresează copiilor între 3 și 14 ani. Este situat în zona Băneasa din București\, pe Calea Ion Zăvoi 8.  \n\n\n\n\n\n\nMedici\, prezentatori de televiziune\, bancheri\, piloți\, pompieri\, cofetari\, aviatori\, constructori\, polițiști și multe alte meserii – o lume întreagă li se așterne la picioare copiilor în acest loc magic\, creat de noi\, pentru viitorul lor. 43 de experiențe de joc de rol distractive și educative îi așteaptă pe copii la Destiny Park! \nCopiii cu vârsta de peste 7 ani pot fi lăsați singuri în Destiny Park\, doar cu acord parental. \nCopiii cu dizabilități au reducere de 50% la Biletele Standard Pass și All Day Pass (la fiecare copil 1 adult are și el 50% discount) la vizitele individuale.  \nDestiny Park își propune să ofere copiilor o înțelegere practică a diferitelor profesii și responsabilități\, contribuind la dezvoltarea lor personală și profesională viitoare. Parcul funcționează pe baza unei economii proprii\, unde copiii câștigă “Magic Bani” prin participarea la activități\, învățând despre valoarea muncii și gestionarea resurselor financiare. \nDestiny Park se angajează să transforme fiecare vizită a copiilor într-o oportunitate de învățare și dezvoltare personală\, oferindu-le un mediu în care pot explora\, învăța și crește prin joacă. Parcul își dorește să contribuie la formarea unei generații de tineri informați\, responsabili și pregătiți pentru provocările viitorului. \nServicii și Experiențe Oferite: \n\nExperiențe Interactive: Peste 40 de activități tematice\, inclusiv simulări ale profesiilor precum aviator\, medic\, prezentator TV\, bancher\, pompier\, bucătar\, constructor și polițist.\nProgram Educațional: Activități structurate care combină învățarea teoretică cu aplicații practice\, dezvoltând abilități precum creativitatea\, comunicarea și responsabilitatea.\nEvenimente Speciale: Organizarea de evenimente tematice\, petreceri aniversare\, workshopuri și activități sezoniere pentru a îmbogăți experiența vizitatorilor.\n\n Favorite
URL:https://stiudelasorina.ro/event/destiny-park-o-lume-condusa-de-copii-10/
LOCATION:Destiny Park\, Calea Ion Zăvoi 8b\, București 015045\, București\, Sector 1\, 015045\, Romania
CATEGORIES:În familie,Play session
ATTACH;FMTTYPE=image/jpeg:https://stiudelasorina.ro/wp-content/uploads/2025/04/poza-grup-circle.jpg
END:VEVENT
END:VCALENDAR