BEGIN:VCALENDAR
VERSION:2.0
PRODID:-//Mami, tati, unde mergem azi? - ECPv6.6.3//NONSGML v1.0//EN
CALSCALE:GREGORIAN
METHOD:PUBLISH
X-ORIGINAL-URL:https://stiudelasorina.ro
X-WR-CALDESC:Events for Mami, tati, unde mergem azi?
REFRESH-INTERVAL;VALUE=DURATION:PT1H
X-Robots-Tag:noindex
X-PUBLISHED-TTL:PT1H
BEGIN:VTIMEZONE
TZID:Europe/Bucharest
BEGIN:DAYLIGHT
TZOFFSETFROM:+0200
TZOFFSETTO:+0300
TZNAME:EEST
DTSTART:20260329T010000
END:DAYLIGHT
BEGIN:STANDARD
TZOFFSETFROM:+0300
TZOFFSETTO:+0200
TZNAME:EET
DTSTART:20261025T010000
END:STANDARD
END:VTIMEZONE
BEGIN:VEVENT
DTSTART;TZID=Europe/Bucharest:20260426T100000
DTEND;TZID=Europe/Bucharest:20260426T180000
DTSTAMP:20260421T205250
CREATED:20260311T014057Z
LAST-MODIFIED:20260420T010236Z
UID:10009294-1777197600-1777226400@stiudelasorina.ro
SUMMARY:Primăvara Urbană în grădina Montessori Land
DESCRIPTION:10% reducere dacă spui #stiudelasorina \n\n\n\n\n\n\n\n\n\n\n\nWeekendul acesta dăm startul unui nou sezon plin de joacă\, explorare și timp de calitate petrecut în aer liber! Odată cu zilele mai lungi și vremea tot mai frumoasă\, am prelungit programul\, ca să vă bucurați și mai mult de experiența noastră.\n\n\nPentru cei mici\, pregătim ateliere tematice creative și senzoriale\, potrivite pentru toate vârstele: de la pictură la experiențe tactile care încurajează explorarea și imaginația. În plus\, grădina rămâne locul perfect pentru joacă activă:pistă de biciclete & karting\, zonă de cățărat\, spații de explorare în aer liber.\n\n\nIar pentru părinți\, am pregătit zone de relaxare unde vă puteți bucura de o cafea bună în timp ce cei mici descoperă și se joacă în siguranță.\n\n\n Accesul în grădină se face pe bază de înscriere: găsiți linkul în bio.\n\n\nVă așteptăm cu drag să redescoperim împreună bucuria primăverii!\n\n\n\n\n\n\n\n\n\n\n\n\n\n\n\n\n\n\n\n\n\n\n\n\n\n\n\n\n\n\n\n\n\n\n\n\n\n\n\n\n\n\n\n\n\n\n\n\n\n\n\n\n\n\n\n\n\n\n\n\n\n\n\n\n\n\n\n\n\n\n\n\n\n\n\n\n\n\n\n\n\n\n\n\n\n\n\n\n\n\n\n\n\n\n\n\n\n\n\n\n\n\n\n\n\n\n\n\n\n\n\n\n\n\n\n\n\n\n\n\n\n\n\n\n\n\n\n\n\n\n\n\n\n\n\n\n\n\n\n\n\n\n\n\n\n\n\n\n\n\n\n\n\n\n\n\n\n\n\n\n\n\n\n\n\n\n\n\n\n\n\n\n\n\n\n\n\n\n\n\n\n\n\n Favorite
URL:https://stiudelasorina.ro/event/primavara-urbana-in-gradina-montessori-land-2/
LOCATION:Blooming Events\, Strada Oltețului 30\, București 014192\, București\, Sector 1\, 014192\, Romania
CATEGORIES:Activitate în aer liber,Atelier,Play session
ATTACH;FMTTYPE=image/jpeg:https://stiudelasorina.ro/wp-content/uploads/2026/03/671210998_17984172683991583_7371180694519445975_n.jpg
END:VEVENT
BEGIN:VEVENT
DTSTART;TZID=Europe/Bucharest:20260426T100000
DTEND;TZID=Europe/Bucharest:20260426T200000
DTSTAMP:20260421T205250
CREATED:20251230T054658Z
LAST-MODIFIED:20260415T150311Z
UID:10007841-1777197600-1777233600@stiudelasorina.ro
SUMMARY:Destiny Park – o lume condusă de copii
DESCRIPTION:10% reducere dacă folosești codul SORINA2DESTINY10 la intrare sau pe bilete.ro. \n\n\n\n\n\n\nDestiny Park este primul centru de edutainment (învățare prin joacă) din România și din Europa de Est și se adresează copiilor între 3 și 14 ani. Este situat în zona Băneasa din București\, pe Calea Ion Zăvoi 8.  \n\n\n\n\n\n\nMedici\, prezentatori de televiziune\, bancheri\, piloți\, pompieri\, cofetari\, aviatori\, constructori\, polițiști și multe alte meserii – o lume întreagă li se așterne la picioare copiilor în acest loc magic\, creat de noi\, pentru viitorul lor. 43 de experiențe de joc de rol distractive și educative îi așteaptă pe copii la Destiny Park! \nCopiii cu vârsta de peste 7 ani pot fi lăsați singuri în Destiny Park\, doar cu acord parental. \nCopiii cu dizabilități au reducere de 50% la Biletele Standard Pass și All Day Pass (la fiecare copil 1 adult are și el 50% discount) la vizitele individuale.  \nDestiny Park își propune să ofere copiilor o înțelegere practică a diferitelor profesii și responsabilități\, contribuind la dezvoltarea lor personală și profesională viitoare. Parcul funcționează pe baza unei economii proprii\, unde copiii câștigă “Magic Bani” prin participarea la activități\, învățând despre valoarea muncii și gestionarea resurselor financiare. \nDestiny Park se angajează să transforme fiecare vizită a copiilor într-o oportunitate de învățare și dezvoltare personală\, oferindu-le un mediu în care pot explora\, învăța și crește prin joacă. Parcul își dorește să contribuie la formarea unei generații de tineri informați\, responsabili și pregătiți pentru provocările viitorului. \nServicii și Experiențe Oferite: \n\nExperiențe Interactive: Peste 40 de activități tematice\, inclusiv simulări ale profesiilor precum aviator\, medic\, prezentator TV\, bancher\, pompier\, bucătar\, constructor și polițist.\nProgram Educațional: Activități structurate care combină învățarea teoretică cu aplicații practice\, dezvoltând abilități precum creativitatea\, comunicarea și responsabilitatea.\nEvenimente Speciale: Organizarea de evenimente tematice\, petreceri aniversare\, workshopuri și activități sezoniere pentru a îmbogăți experiența vizitatorilor.\n\n Favorite
URL:https://stiudelasorina.ro/event/destiny-park-o-lume-condusa-de-copii-8/
LOCATION:Destiny Park\, Calea Ion Zăvoi 8b\, București 015045\, București\, Sector 1\, 015045\, Romania
CATEGORIES:În familie,Play session
ATTACH;FMTTYPE=image/jpeg:https://stiudelasorina.ro/wp-content/uploads/2025/04/poza-grup-circle.jpg
END:VEVENT
BEGIN:VEVENT
DTSTART;TZID=Europe/Bucharest:20260426T110000
DTEND;TZID=Europe/Bucharest:20260426T123000
DTSTAMP:20260421T205250
CREATED:20260325T035419Z
LAST-MODIFIED:20260414T032025Z
UID:10009587-1777201200-1777206600@stiudelasorina.ro
SUMMARY:Aladdin si Lampa Fermecata + Petrecerea Prietenilor LumiLunzi
DESCRIPTION:“Aladdin și lampa fermecată” prinde viață într-un spectacol de teatru interactiv la LumiLand\, unde copiii nu doar urmăresc povestea\, ci devin parte din ea! \nCând? Pe 26 aprilie\, de la 11:00\nDurată: 35 minute spectacolul/ 1h petrecerea\nUnde? LumiLand – Teatru pentru copii \n\n\n\n“Aladdin și lampa fermecată” este povestea unui băiat sărac pe nume Aladdin\, care\, la îndemnul unui derviş viclean\, descoperă o lampa veche într-o grotă plină de comori.\n\nCând dervisul încearcă să-l trădeze\, Aladdin rămâne captiv\, dar descoperă că lampa adăpostește un spiriduș puternic\, gata să-i îndeplinească dorințele. Cu ajutorul spiridușului\, Aladin și mama sa scapă de sărăcie.\n\nAladdin se îndrăgostește de frumoasa prințesă Iasmina și\, după multe aventuri și încercări\, trăiesc împreună fericiți\, învingând în cele din urmă răutatea dervişului.\n\nHaideți să descoperiți magia lui Aladdin într-o experiență unică!\nDin spectatori\, copiii devin mari actori\, implicându-se activ în aventură și contribuind la deznodământul poveștii.\nNu ratați această ocazie de a transforma o poveste clasică într-o amintire de neuitat!\n\nDistracția continuă cu Petrecerea Prietenilor LumiLunzi!\nCei mici se vor distra într-un cadru plin de voie-bună\, dans\, jocuri dinamice și amuzante\, baloane modelabile.\n\nDetalii la email contact.lumiland@gmail.com sau la telefon 0748 831 687\n\n\n\n\n\n\n\n\n\n\n\n\n Favorite
URL:https://stiudelasorina.ro/event/aladdin-si-lampa-fermecata-petrecerea-prietenilor-lumilunzi/
LOCATION:Teatrul LumiLand\, Bulevardul Hristo Botev 1\, București 030167\, București\, Sector 3\, 030167
CATEGORIES:Play session,Spectacol de teatru
ATTACH;FMTTYPE=image/webp:https://stiudelasorina.ro/wp-content/uploads/2026/03/https___static3.iabilet.ro_img_db_event_01_ea_b3_00000395282-8839.webp
END:VEVENT
END:VCALENDAR