BEGIN:VCALENDAR
VERSION:2.0
PRODID:-//Mami, tati, unde mergem azi? - ECPv6.6.3//NONSGML v1.0//EN
CALSCALE:GREGORIAN
METHOD:PUBLISH
X-WR-CALNAME:Mami, tati, unde mergem azi?
X-ORIGINAL-URL:https://stiudelasorina.ro
X-WR-CALDESC:Events for Mami, tati, unde mergem azi?
REFRESH-INTERVAL;VALUE=DURATION:PT1H
X-Robots-Tag:noindex
X-PUBLISHED-TTL:PT1H
BEGIN:VTIMEZONE
TZID:Europe/Bucharest
BEGIN:DAYLIGHT
TZOFFSETFROM:+0200
TZOFFSETTO:+0300
TZNAME:EEST
DTSTART:20260329T010000
END:DAYLIGHT
BEGIN:STANDARD
TZOFFSETFROM:+0300
TZOFFSETTO:+0200
TZNAME:EET
DTSTART:20261025T010000
END:STANDARD
END:VTIMEZONE
BEGIN:VEVENT
DTSTART;TZID=Europe/Bucharest:20260425T090000
DTEND;TZID=Europe/Bucharest:20260425T180000
DTSTAMP:20260421T191932
CREATED:20260325T032232Z
LAST-MODIFIED:20260415T155902Z
UID:10009579-1777107600-1777140000@stiudelasorina.ro
SUMMARY:SuperEroi pentru Viață
DESCRIPTION:Hai să ne mișcăm împreună! Spinner\, supereroul Itsy Bitsy care transformă energia în distracție\, vă dă întâlnire la cea de-a 4-a ediție a evenimentului SuperEroi pentru Viață! \n Ne vedem pe 25 aprilie\, între orele 9:00 și 18:00\, în Parcul Lumea Copiilor din București. Lăsăm ecranele deoparte și cucerim parcul prin sport și joacă!\nIntrarea este liberă. \n Te așteptăm alături de copilul tău să descoperiți împreună avantajele mișcării\, bucuria de a face sport și de a descoperi\, prin joacă și activități distractive\, cum putem avea un stil de viață activ și sănătos.\n Parcul Lumea Copiilor va deveni\, pe 25 aprilie\, un mare teren de sport\, mișcare și joacă sănătoasă. Te așteptăm să testezi și să-ți alegi sportul preferat\, să participi la demonstrații sportive\, să dansezi și să-i aplauzi pe artiștii și pe sportivii care vor urca pe scenă la SuperEroi pentru Viață!\n Pe aleile parcului\, copiii vor avea ocazia să descopere și să ia parte la zeci de activități sportive\, dar și la numeroase activități de joacă distractivă și de stil de viață sănătos.\n De asemenea\, pe scena SuperEroi pentru Viață vor urca zeci de copii artiști și sportivi care vor susține momente de muzică\, dans și demonstrații sportive spectaculoase.\n Spinner\, supereroul Itsy Bitsy care activează energia\, va fi gazda evenimentului și îi va antrena pe cei prezenți în cele 6 ore de spectacol\, între orele 10:00-13:00 și 15:00-18:00.\n Și anul acesta\, copiii și părinții pot participa\, în echipe formate din părinte și copil\, la Cursele Colorate susținute de SuperEroii Itsy Bitsy alături de invitați speciali:\n Cursa VERDE – cu SuperZăpă și actrița Dana Rogoz – Ora 11:00 Cursa PORTOCALIE – cu Spark și campioana olimpică Alina Dumitru – Ora 12:30 Cursa ROZ-ALBASTRĂ – cu Itsy\, Bitsy și realizatoarea TV Roxana Ciuhulescu – Ora 15:00 Cursa TURCOAZ – cu Dj Dodi și baschetbalistul Virgil Stănescu – Ora 16:30\n Traseul curselor colorate are aproximativ 600 m\, iar tu îl vei parcurge alături de copilul tău și de sute de alți participanți\, pe pista de alergare ce înconjoară inelul central.\n Alege-ți cursa preferată\, achiziționează kitul părinte-copil și vino să îl ridici cu o oră înainte de începerea cursei alese.\n Un kit de alergare pentru fiecare echipă părinte-copil costă 120 de lei și este compus din: rucsac personalizat\, 2 șepci\, sticlă de apă\, bandană\, medalie\, insignă\, diplomă de participare și brățara cu superputeri. Achiziționează KIT-ul aici  https://tinyurl.com/SuperEroiPentruViata\n Află mai multe info  https://tinyurl.com/SPVInfo\n Cum ajungi la SuperEroi pentru Viață?Ca să ajungi repede\, să nu-ți risipești energia în trafic și să evităm împreună blocarea zonei\, îți recomandăm să folosești mijloacele de transport în comun: Metrou: Tineretului\, Mihai Bravu. Tramvai: 1\, 10. Autobuz: 312\, 313\, 381. Troleibuz: 72\, 73\, 76.\n Favorite
URL:https://stiudelasorina.ro/event/supereroi-pentru-viata/
LOCATION:Parcul Lumea Copiilor\, Strada Pridvorului\, București 041203\, București\, Sector 4\, 041203\, Romania
CATEGORIES:Activitate în aer liber,În familie,Play session,Sport
ATTACH;FMTTYPE=image/jpeg:https://stiudelasorina.ro/wp-content/uploads/2026/03/655811021_1549042697226258_4557310673568558437_n.jpg
END:VEVENT
BEGIN:VEVENT
DTSTART;TZID=Europe/Bucharest:20260425T100000
DTEND;TZID=Europe/Bucharest:20260425T180000
DTSTAMP:20260421T191932
CREATED:20260311T014047Z
LAST-MODIFIED:20260420T010233Z
UID:10009293-1777111200-1777140000@stiudelasorina.ro
SUMMARY:Primăvara Urbană în grădina Montessori Land
DESCRIPTION:10% reducere dacă spui #stiudelasorina \n\n\n\n\n\n\n\n\n\n\n\nWeekendul acesta dăm startul unui nou sezon plin de joacă\, explorare și timp de calitate petrecut în aer liber! Odată cu zilele mai lungi și vremea tot mai frumoasă\, am prelungit programul\, ca să vă bucurați și mai mult de experiența noastră.\n\n\nPentru cei mici\, pregătim ateliere tematice creative și senzoriale\, potrivite pentru toate vârstele: de la pictură la experiențe tactile care încurajează explorarea și imaginația. În plus\, grădina rămâne locul perfect pentru joacă activă:pistă de biciclete & karting\, zonă de cățărat\, spații de explorare în aer liber.\n\n\nIar pentru părinți\, am pregătit zone de relaxare unde vă puteți bucura de o cafea bună în timp ce cei mici descoperă și se joacă în siguranță.\n\n\n Accesul în grădină se face pe bază de înscriere: găsiți linkul în bio.\n\n\nVă așteptăm cu drag să redescoperim împreună bucuria primăverii!\n\n\n\n\n\n\n\n\n\n\n\n\n\n\n\n\n\n\n\n\n\n\n\n\n\n\n\n\n\n\n\n\n\n\n\n\n\n\n\n\n\n\n\n\n\n\n\n\n\n\n\n\n\n\n\n\n\n\n\n\n\n\n\n\n\n\n\n\n\n\n\n\n\n\n\n\n\n\n\n\n\n\n\n\n\n\n\n\n\n\n\n\n\n\n\n\n\n\n\n\n\n\n\n\n\n\n\n\n\n\n\n\n\n\n\n\n\n\n\n\n\n\n\n\n\n\n\n\n\n\n\n\n\n\n\n\n\n\n\n\n\n\n\n\n\n\n\n\n\n\n\n\n\n\n\n\n\n\n\n\n\n\n\n\n\n\n\n\n\n\n\n\n\n\n\n\n\n\n\n\n\n\n\n Favorite
URL:https://stiudelasorina.ro/event/primavara-urbana-in-gradina-montessori-land/
LOCATION:Blooming Events\, Strada Oltețului 30\, București 014192\, București\, Sector 1\, 014192\, Romania
CATEGORIES:Activitate în aer liber,Atelier,Play session
ATTACH;FMTTYPE=image/jpeg:https://stiudelasorina.ro/wp-content/uploads/2026/03/671210998_17984172683991583_7371180694519445975_n.jpg
END:VEVENT
BEGIN:VEVENT
DTSTART;TZID=Europe/Bucharest:20260425T100000
DTEND;TZID=Europe/Bucharest:20260425T210000
DTSTAMP:20260421T191932
CREATED:20251230T054647Z
LAST-MODIFIED:20260415T150305Z
UID:10007840-1777111200-1777150800@stiudelasorina.ro
SUMMARY:Destiny Park – o lume condusă de copii
DESCRIPTION:10% reducere dacă folosești codul SORINA2DESTINY10 la intrare sau pe bilete.ro. \n\n\n\n\n\n\nDestiny Park este primul centru de edutainment (învățare prin joacă) din România și din Europa de Est și se adresează copiilor între 3 și 14 ani. Este situat în zona Băneasa din București\, pe Calea Ion Zăvoi 8.  \n\n\n\n\n\n\nMedici\, prezentatori de televiziune\, bancheri\, piloți\, pompieri\, cofetari\, aviatori\, constructori\, polițiști și multe alte meserii – o lume întreagă li se așterne la picioare copiilor în acest loc magic\, creat de noi\, pentru viitorul lor. 43 de experiențe de joc de rol distractive și educative îi așteaptă pe copii la Destiny Park! \nCopiii cu vârsta de peste 7 ani pot fi lăsați singuri în Destiny Park\, doar cu acord parental. \nCopiii cu dizabilități au reducere de 50% la Biletele Standard Pass și All Day Pass (la fiecare copil 1 adult are și el 50% discount) la vizitele individuale.  \nDestiny Park își propune să ofere copiilor o înțelegere practică a diferitelor profesii și responsabilități\, contribuind la dezvoltarea lor personală și profesională viitoare. Parcul funcționează pe baza unei economii proprii\, unde copiii câștigă “Magic Bani” prin participarea la activități\, învățând despre valoarea muncii și gestionarea resurselor financiare. \nDestiny Park se angajează să transforme fiecare vizită a copiilor într-o oportunitate de învățare și dezvoltare personală\, oferindu-le un mediu în care pot explora\, învăța și crește prin joacă. Parcul își dorește să contribuie la formarea unei generații de tineri informați\, responsabili și pregătiți pentru provocările viitorului. \nServicii și Experiențe Oferite: \n\nExperiențe Interactive: Peste 40 de activități tematice\, inclusiv simulări ale profesiilor precum aviator\, medic\, prezentator TV\, bancher\, pompier\, bucătar\, constructor și polițist.\nProgram Educațional: Activități structurate care combină învățarea teoretică cu aplicații practice\, dezvoltând abilități precum creativitatea\, comunicarea și responsabilitatea.\nEvenimente Speciale: Organizarea de evenimente tematice\, petreceri aniversare\, workshopuri și activități sezoniere pentru a îmbogăți experiența vizitatorilor.\n\n Favorite
URL:https://stiudelasorina.ro/event/destiny-park-o-lume-condusa-de-copii-7/
LOCATION:Destiny Park\, Calea Ion Zăvoi 8b\, București 015045\, București\, Sector 1\, 015045\, Romania
CATEGORIES:În familie,Play session
ATTACH;FMTTYPE=image/jpeg:https://stiudelasorina.ro/wp-content/uploads/2025/04/poza-grup-circle.jpg
END:VEVENT
BEGIN:VEVENT
DTSTART;TZID=Europe/Bucharest:20260425T110000
DTEND;TZID=Europe/Bucharest:20260425T123000
DTSTAMP:20260421T191932
CREATED:20260414T032118Z
LAST-MODIFIED:20260414T032118Z
UID:10009936-1777114800-1777120200@stiudelasorina.ro
SUMMARY:Alice în Țara Minunilor + Petrecerea Prietenilor LumiLunzi
DESCRIPTION:Când? 25 aprilie 2026\, orele 11:00\nUnde? Teatrul LumiLand\nDurată: 40 min spectacolul + Petrecerea Prietenilor LumiLunzi\nVârstă recomandată: 3 ani + \nAlice în Țara Minunilor” – Spectacol de teatru INTERACTIV\, unde cei mici\, din SPECTATORI\, devin MARI ACTORI???? \n\n\nSalut\, prieteni curioși!\nVă pregătiți pentru o aventură magică?Ascultați cu atenție\, pentru că vă voi povesti despre un spectacol interactiv minunat numit “Alice în Țara Minunilor”!Cei mici au șansa să devină din mici spectatori\, mari actori în această aventură captivantă. Într-un spectacol de teatru interactiv plin de surprize\, ei vor intra în lumea magică și fantastică din Țara Minunilor.\nInterpretând personaje excentrice precum Alice\, Pălărierul Nebun și Regina de Cupă\, copiii vor trăi o experiență teatrală memorabilă\, plină de lecții despre curiozitate și imaginație. Atmosfera captivantă este completată de interacțiunea directă cu personajele și posibilitatea de a influența cursul acțiunii.Spectacolul aduce cu sine o serie de surprize și momente de amuzament pentru întreaga familie\, iar finalul nu doar încheie povestea\, ci și oferă o lecție valoroasă despre importanța curiozității și a imaginației în viața fiecărui copil.\n\n\n\n\n\n\n\n\n\n\n\n\n\n Favorite
URL:https://stiudelasorina.ro/event/alice-in-tara-minunilor-petrecerea-prietenilor-lumilunzi/
LOCATION:Teatrul LumiLand\, Bulevardul Hristo Botev 1\, București 030167\, București\, Sector 3\, 030167
CATEGORIES:Play session,Spectacol de teatru
ATTACH;FMTTYPE=image/webp:https://stiudelasorina.ro/wp-content/uploads/2026/04/https___static3.iabilet.ro_img_db_event_01_ea_fe_00000395560-9051.webp
END:VEVENT
END:VCALENDAR