BEGIN:VCALENDAR
VERSION:2.0
PRODID:-//Mami, tati, unde mergem azi? - ECPv6.6.3//NONSGML v1.0//EN
CALSCALE:GREGORIAN
METHOD:PUBLISH
X-WR-CALNAME:Mami, tati, unde mergem azi?
X-ORIGINAL-URL:https://stiudelasorina.ro
X-WR-CALDESC:Events for Mami, tati, unde mergem azi?
REFRESH-INTERVAL;VALUE=DURATION:PT1H
X-Robots-Tag:noindex
X-PUBLISHED-TTL:PT1H
BEGIN:VTIMEZONE
TZID:Europe/Bucharest
BEGIN:DAYLIGHT
TZOFFSETFROM:+0200
TZOFFSETTO:+0300
TZNAME:EEST
DTSTART:20260329T010000
END:DAYLIGHT
BEGIN:STANDARD
TZOFFSETFROM:+0300
TZOFFSETTO:+0200
TZNAME:EET
DTSTART:20261025T010000
END:STANDARD
END:VTIMEZONE
BEGIN:VEVENT
DTSTART;TZID=Europe/Bucharest:20260422T093000
DTEND;TZID=Europe/Bucharest:20260422T123000
DTSTAMP:20260421T143723
CREATED:20260330T022042Z
LAST-MODIFIED:20260420T010836Z
UID:10009686-1776850200-1776861000@stiudelasorina.ro
SUMMARY:Joacă liberă
DESCRIPTION:10% reducere dacă folosești codul SORINA10 \nHai la joacă liberă\, la Toni Boni! 🎈 \nAici\, copiii construiesc\, cântă\, explorează și râd în voie — iar părinții se bucură de o cafea caldă și liniște ☕💛\n3 ore de bucurie autentică\, fără stres\, fără griji — doar zâmbete și voie bună! 😍 \n🌟 Ce veți descoperi:\n🎲 Cameră cu jucării educative & Montessori\n🎵 Cameră cu instrumente muzicale adevărate\n🌳 Curte plină de aventuri și jucării colorate\n🍰 Cafenea cu bunătăți pentru cei mici și cei mari \n✨ 70 RON / 3 ore\n❤️ 240 RON / 4 intrări \n📍 Rezervă un loc ACUM!\n🌐 www.toniboni.ro\n📞 0747 798 183 – MANUELA \n💛 Toni Boni – locul unde joaca e artă și timpul devine prieten 💛 \n Favorite
URL:https://stiudelasorina.ro/event/joaca-libera-7/
LOCATION:Toni Boni\, Strada Prinosului 9\, București 041256\, București\, Sector 4\, 041256
CATEGORIES:Play session
ATTACH;FMTTYPE=image/jpeg:https://stiudelasorina.ro/wp-content/uploads/2025/07/216667ae-275e-4608-acdf-a90a655e5bd2-819x1024-1.jpg
END:VEVENT
BEGIN:VEVENT
DTSTART;TZID=Europe/Bucharest:20260422T100000
DTEND;TZID=Europe/Bucharest:20260422T190000
DTSTAMP:20260421T143723
CREATED:20250402T025203Z
LAST-MODIFIED:20260415T150317Z
UID:10004219-1776852000-1776884400@stiudelasorina.ro
SUMMARY:Destiny Park – o lume condusă de copii
DESCRIPTION:10% reducere dacă folosești codul SORINA2DESTINY10 la intrare sau pe bilete.ro. \n\n\n\n\n\n\nDestiny Park este primul centru de edutainment (învățare prin joacă) din România și din Europa de Est și se adresează copiilor între 3 și 14 ani. Este situat în zona Băneasa din București\, pe Calea Ion Zăvoi 8.  \n\n\n\n\n\n\nMedici\, prezentatori de televiziune\, bancheri\, piloți\, pompieri\, cofetari\, aviatori\, constructori\, polițiști și multe alte meserii – o lume întreagă li se așterne la picioare copiilor în acest loc magic\, creat de noi\, pentru viitorul lor. 43 de experiențe de joc de rol distractive și educative îi așteaptă pe copii la Destiny Park! \nCopiii cu vârsta de peste 7 ani pot fi lăsați singuri în Destiny Park\, doar cu acord parental. \nCopiii cu dizabilități au reducere de 50% la Biletele Standard Pass și All Day Pass (la fiecare copil 1 adult are și el 50% discount) la vizitele individuale.  \nDestiny Park își propune să ofere copiilor o înțelegere practică a diferitelor profesii și responsabilități\, contribuind la dezvoltarea lor personală și profesională viitoare. Parcul funcționează pe baza unei economii proprii\, unde copiii câștigă “Magic Bani” prin participarea la activități\, învățând despre valoarea muncii și gestionarea resurselor financiare. \nDestiny Park se angajează să transforme fiecare vizită a copiilor într-o oportunitate de învățare și dezvoltare personală\, oferindu-le un mediu în care pot explora\, învăța și crește prin joacă. Parcul își dorește să contribuie la formarea unei generații de tineri informați\, responsabili și pregătiți pentru provocările viitorului. \nServicii și Experiențe Oferite: \n\nExperiențe Interactive: Peste 40 de activități tematice\, inclusiv simulări ale profesiilor precum aviator\, medic\, prezentator TV\, bancher\, pompier\, bucătar\, constructor și polițist.\nProgram Educațional: Activități structurate care combină învățarea teoretică cu aplicații practice\, dezvoltând abilități precum creativitatea\, comunicarea și responsabilitatea.\nEvenimente Speciale: Organizarea de evenimente tematice\, petreceri aniversare\, workshopuri și activități sezoniere pentru a îmbogăți experiența vizitatorilor.\n\n Favorite
URL:https://stiudelasorina.ro/event/destiny-park-o-lume-condusa-de-copii/
LOCATION:Destiny Park\, Calea Ion Zăvoi 8b\, București 015045\, București\, Sector 1\, 015045\, Romania
CATEGORIES:În familie,Play session
ATTACH;FMTTYPE=image/jpeg:https://stiudelasorina.ro/wp-content/uploads/2025/04/poza-grup-circle.jpg
END:VEVENT
BEGIN:VEVENT
DTSTART;TZID=Europe/Bucharest:20260422T170000
DTEND;TZID=Europe/Bucharest:20260422T180000
DTSTAMP:20260421T143723
CREATED:20260226T050544Z
LAST-MODIFIED:20260326T044941Z
UID:10009132-1776877200-1776880800@stiudelasorina.ro
SUMMARY:Miercurea copiilor creativi - Semn de carte origami
DESCRIPTION:Îi invităm pe participanți să descopere plăcerea plierii hârtiei prin crearea unui semn de carte jucăuș\, perfect pentru lecturile de primăvară. Activitatea este ușoară\, relaxantă și potrivită pentru copii de peste 4 ani. Fiecare participant va pleca acasă cu un semn de carte handmade\, personalizat și gata să aducă un zâmbet la fiecare pagină întoarsă. Atelierul va avea loc in magazinul IKEA Pallady\, la etajul 2\, la intrarea în Restaurantul suedez. Activitatea este dedicată copiilor\, iar prezența unui adult însoțitor este necesară pe toată durata atelierului. Te rugăm să te înscrii doar dacă poți participa\, iar dacă intervine ceva\, poți anula înscrierea direct din site-ul IKEA sau din aplicație\, astfel oferim șansa și altor copii să se bucure de atelier.\n\n\n Favorite
URL:https://stiudelasorina.ro/event/miercurea-copiilor-creativi-flori-de-primavara/
LOCATION:IKEA Pallady\, Bulevardul Theodor Pallady 57\, București 032266\, București\, Sector 3\, 032266
CATEGORIES:Atelier,Play session
ATTACH;FMTTYPE=image/jpeg:https://stiudelasorina.ro/wp-content/uploads/2026/02/Screenshot-2026-03-26-064934.jpg
END:VEVENT
BEGIN:VEVENT
DTSTART;TZID=Europe/Bucharest:20260422T180000
DTEND;TZID=Europe/Bucharest:20260422T200000
DTSTAMP:20260421T143723
CREATED:20260227T023058Z
LAST-MODIFIED:20260417T011342Z
UID:10009145-1776880800-1776888000@stiudelasorina.ro
SUMMARY:Carnavalul primăverii
DESCRIPTION:Nu e doar un atelier… e o experiență pe care o va povesti zile întregi \n\n\n Pictăm și decorăm măști de carnaval\n Mâncăm pizza (pentru că distracția cere energie )\n Ne distrăm\, socializăm și creăm amintiri\n\n\n 22.04 |  18:00\n ZMA Playground\n\n\n 99 lei / copil\n\n\n Locuri LIMITATE — se ocupă rapid!\n\n\n Scrie acum „VREAU” în comentarii sau mesaj privat la 0741.099.494 și îți rezervăm locul.\n\n\n Lasă copilul să simtă magia primăverii!\n\n\n\n\n\n\n\n\n\n\n\n\n\n Favorite
URL:https://stiudelasorina.ro/event/atelier-de-martisor-pentru-copii/
LOCATION:ZMA Playground\, Bd. Biruinței 72\, Pantelimon 077145\, București\, Pantelimon\, 077145\, Romania
CATEGORIES:Atelier,Play session
ATTACH;FMTTYPE=image/jpeg:https://stiudelasorina.ro/wp-content/uploads/2026/02/Screenshot-2026-04-17-041256.jpg
END:VEVENT
END:VCALENDAR