BEGIN:VCALENDAR
VERSION:2.0
PRODID:-//Mami, tati, unde mergem azi? - ECPv6.6.3//NONSGML v1.0//EN
CALSCALE:GREGORIAN
METHOD:PUBLISH
X-WR-CALNAME:Mami, tati, unde mergem azi?
X-ORIGINAL-URL:https://stiudelasorina.ro
X-WR-CALDESC:Events for Mami, tati, unde mergem azi?
REFRESH-INTERVAL;VALUE=DURATION:PT1H
X-Robots-Tag:noindex
X-PUBLISHED-TTL:PT1H
BEGIN:VTIMEZONE
TZID:Europe/Bucharest
BEGIN:DAYLIGHT
TZOFFSETFROM:+0200
TZOFFSETTO:+0300
TZNAME:EEST
DTSTART:20260329T010000
END:DAYLIGHT
BEGIN:STANDARD
TZOFFSETFROM:+0300
TZOFFSETTO:+0200
TZNAME:EET
DTSTART:20261025T010000
END:STANDARD
END:VTIMEZONE
BEGIN:VEVENT
DTSTART;TZID=Europe/Bucharest:20260322T110000
DTEND;TZID=Europe/Bucharest:20260322T123000
DTSTAMP:20260422T220249
CREATED:20260106T151718Z
LAST-MODIFIED:20260318T030124Z
UID:10007912-1774177200-1774182600@stiudelasorina.ro
SUMMARY:Dacă poți visa\, poți realiza + Petrecerea Prietenilor LumiLunzi
DESCRIPTION:Dacǎ poți visa\, poți realizaZizica\, Piti și Lala\, primesc o lecție despre încrederea în sine și puterea gândurilor pozitive.Lala\, o pisicuță cu visul de a deveni o balerină\, se simte descurajată după ce cade pe scenă în timpul unui concurs de talente și este luată în râs de alte pisicuțe.Cu ajutorul lui Piti și Zizica\, ea învață să-și depășească frica și îndoiala\, descoperind puterea gândurilor pozitive și a iubirii de sine.În cele din urmă\, Lala prinde încredere și decide să continue să urmeze visul ei de a deveni o balerină\, pregătindu-se pentru a participa la Carnavalul Culorilor.Personajele principale trec printr-un proces de învățare și transformare\, învățând că încrederea în sine și gândurile pozitive pot face orice vis să devină realitate.Lecția este susținută de interacțiuni amuzante și momente emoționante între personaje\, iar povestea se încheie cu o notă optimistă\, în timp ce Lala se pregătește pentru viitoarea sa performanță la Carnavalul Culorilor.\nDistracția continuă cu Petrecerea Prietenilor LumiLunzi!Cei mici se vor distra într-un cadru plin de voie-bună\, dans\, jocuri dinamice și amuzante şi baloane modelabile.\nPreț:60 lei pt copil (spectacol +petrecere)35 lei parinte\nDetalii si bilete la email contact.lumiland@gmail.com sau la telefon 0748 831 687.\n\n\n\n\n\n\n\n\n Favorite
URL:https://stiudelasorina.ro/event/regatul-de-gheata-petrecerea-regatului-de-gheata-10/
LOCATION:Teatrul LumiLand\, Bulevardul Hristo Botev 1\, București 030167\, București\, Sector 3\, 030167
CATEGORIES:Play session,Spectacol de teatru
ATTACH;FMTTYPE=image/png:https://stiudelasorina.ro/wp-content/uploads/2026/01/https___static3.iabilet.ro_img_db_event_01_e6_b9_00000390764-2772.png
END:VEVENT
BEGIN:VEVENT
DTSTART;TZID=Europe/Bucharest:20260322T140000
DTEND;TZID=Europe/Bucharest:20260322T190000
DTSTAMP:20260422T220249
CREATED:20260312T033450Z
LAST-MODIFIED:20260318T041125Z
UID:10009338-1774188000-1774206000@stiudelasorina.ro
SUMMARY:Eveniment Caritabil - Ziua Copilăriei în Culori
DESCRIPTION: 𝐄𝐯𝐞𝐧𝐢𝐦𝐞𝐧𝐭 𝐂𝐚𝐫𝐢𝐭𝐚𝐛𝐢𝐥 – „𝐙𝐢𝐮𝐚 𝐂𝐨𝐩𝐢𝐥𝐚̆𝐫𝐢𝐞𝐢 𝐢̂𝐧 𝐂𝐮𝐥𝐨𝐫𝐢” – 𝐄𝐝𝐢𝐭̦𝐢𝐚 𝐚 𝐈𝐈-𝐚\, 𝐄𝐝𝐢𝐭̦𝐢𝐚 𝐝𝐞 𝐏𝐫𝐢𝐦𝐚̆𝐯𝐚𝐫𝐚̆ \n Când? 21-22 martie Unde? Orășelul Copiilor / Parcul Copiilor\, București – Sector 4 / Zona Fântânii Muzicale La ce oră? În ambele zile\, între 14:00 – 19:00 Intrare liberă!\nDragi părinți\, copii și prieteni ai Asociației Spectrul Copilăriei\, vă invităm să ne bucurăm împreună de o ediție specială de primăvară\, plină de culoare\, joacă și fapte bune! \n„𝒁𝒊𝒖𝒂 𝑪𝒐𝒑𝒊𝒍𝒂̆𝒓𝒊𝒆𝒊 𝒊̂𝒏 𝑪𝒖𝒍𝒐𝒓𝒊” – 𝐄𝐝𝐢𝐭̦𝐢𝐚 𝐚 𝐈𝐈-𝐚\, 𝐄𝐝𝐢𝐭̦𝐢𝐚 𝐝𝐞 𝐏𝐫𝐢𝐦𝐚̆𝐯𝐚𝐫𝐚̆ este un eveniment caritabil dedicat copiilor cu tulburări din spectrul autist (TSA) și copiilor cu nevoi speciale.\n Scopul nostru: Să aducem comunitatea mai aproape\, Să sprijinim terapiile și programele de integrare socială\, Să oferim zâmbete\, joacă și speranță tuturor copiilor. \n Ce te așteaptă în parc:\n Ateliere creative și senzoriale:* Pictură pe față* Pictură pe hârtie* Pictură pe sticlă* Pictură pe lut* Realizarea de felicitări tematice de primăvară\n Atelier creativ:* Ghiveci cu trifoi – copiii își vor planta și picta propriul ghiveci\n Colț de joacă și socializare Tombolă caritabilă cu premii surpriză Colț foto „Zâmbetul Copilăriei” Colț informativ „Cunoaște Spectrul Copilăriei”\n Toate activitățile contribuie la sprijinirea copiilor din programele Asociației.\nParticiparea este gratuită\, iar donațiile se pot face pe loc – prin urne\, QR code sau prin activitățile caritabile din cadrul evenimentului.\n Hai și tu să fii parte dintr-o poveste colorată\, plină de empatie și bucurie!Împreună putem transforma două zile de primăvară într-o adevărată sărbătoare a copilăriei și a binelui. \n Contact: 0750 450 257 | 0740 333 293 Email: contact@spectrul-copilariei.ro\n Website: www.spectrul-copilariei.ro\n\n Favorite
URL:https://stiudelasorina.ro/event/eveniment-caritabil-ziua-copilariei-in-culori-2/
LOCATION:Orășelul Copiilor\, Calea Piscului\, București 040354\, București\, Sector 4\, 040354\, Romania
CATEGORIES:Atelier,Festival,Play session
ATTACH;FMTTYPE=image/jpeg:https://stiudelasorina.ro/wp-content/uploads/2026/03/651816458_1363871712422339_6860530256031725466_n.jpg
END:VEVENT
BEGIN:VEVENT
DTSTART;TZID=Europe/Bucharest:20260328T110000
DTEND;TZID=Europe/Bucharest:20260328T140000
DTSTAMP:20260422T220249
CREATED:20260326T035245Z
LAST-MODIFIED:20260331T022800Z
UID:10009611-1774695600-1774706400@stiudelasorina.ro
SUMMARY:Festivalul Iepurașului de Paște la Centrul Comercial Auchan Pallady
DESCRIPTION:Festivalul Iepurașului de Paște la Centrul Comercial Auchan Pallady – activități pentru copii și familii\, într-o experiență de sărbătoare În perioada sărbătorilor de Paște\, familiile caută mai mult decât simple opțiuni de petrecere a timpului liber. Caută experiențe care îi implică pe copii\, creează conexiune și oferă momente care rămân. \nCe găsești la Festivalul Iepurașului de Paște \nEvenimentul propune un mix echilibrat de activități pentru copii: ateliere creative\, teatru interactiv\, face painting și momente dedicate părinților. Formatul este gândit astfel încât fiecare familie să își poată construi propriul parcurs\, fără presiune sau rigiditate \nAteliere creative pentru copii – experiență practică și dezvoltare prin joacă \nAtelierele art & craft sunt printre cele mai apreciate activități în cadrul evenimentelor de familie. În cadrul Festivalului Iepurașului de Paște\, copiii vor primi kit-uri tematice și vor crea propriile obiecte inspirate de sărbători. \nAceastă activitate: \n• stimulează creativitatea și atenția\n• dezvoltă abilități practice\n• oferă copiilor satisfacția unui rezultat personal \n✔ 100 de kituri disponibile\n✔ 10 modele diferite\n✔ Sesiuni: 11:00 – 12:00 și 13:00 – 14:30\n✔ Recomandat pentru copii peste 4 ani \nParticiparea se face în limita materialelor disponibile. \nSpectacol de teatru pentru copii – experiență interactivă și educativă \nUnul dintre punctele centrale ale evenimentului este spectacolul: „Ursul păcălit de vulpe și Iepurica cea isteață”\, susținut de Trupa de Teatru Qfeel\, între 12:00 și 13:00. \nEste o reinterpretare modernă a unei povești clasice\, construită într-un format interactiv\, care implică activ copiii și îi menține conectați pe tot parcursul reprezentației. \nDe ce este relevant pentru copii: \n• combină umorul cu învățăminte accesibile\n• încurajează gândirea critică și atenția\n• promovează valori precum sinceritatea\, respectul și responsabilitatea \nLa final\, cei mici pot interacționa cu personajele și pot face fotografii\, transformând experiența într-o amintire concretă. \nAccesul este limitat la capacitatea spațiului (aprox. 80–100 persoane). \nFace painting – creativitate și libertate de exprimare \nZona de face painting completează experiența printr-un element de joacă liberă. Copiii pot alege să devină\, pentru câteva ore\, personajele preferate. \nAceastă activitate: \n• stimulează imaginația\n• contribuie la dezvoltarea identității prin joc\n• oferă o experiență vizuală și emoțională memorabilă \n✔ Disponibilă între 11:00 – 14:00\n✔ Acces în ordinea sosirii \nDeclarație pentru copilul meu” – un moment cu valoare emoțională \nPe lângă activitățile dedicate copiilor\, evenimentul include și un spațiu pentru părinți. \nÎn cadrul zonei „Declarație pentru copilul meu”\, aceștia pot scrie un mesaj personal pentru copilul lor. Este o inițiativă simplă\, dar cu impact\, care aduce în prim-plan relația părinte–copil într-un mod autentic. \nActivare specială cu influencer – experiență conectată online & offline \nEvenimentul integrează și o componentă digitală\, prin colaborarea cu Sorina Mincu (Știu de la Sorina). \nAceasta va comunica un cod special comunității sale\, iar primele 10 persoane care îl folosesc în cadrul evenimentului vor primi un cadou. \nEste un mecanism simplu\, dar eficient\, care adaugă un layer de interacțiune și anticipare. \nPe 28 martie\, la Centrul Comercial Auchan Pallady\, transformă o zi obișnuită într-o amintire frumoasă alături de copilul copilul tău! \n Favorite
URL:https://stiudelasorina.ro/event/festivalul-iepurasului-de-paste/
LOCATION:Auchan Pallady\, Bulevardul Theodor Pallady 51N\, București 032258\, București\, Sector 3\, 032258\, Romania
CATEGORIES:Atelier,Play session,Spectacol de teatru
ATTACH;FMTTYPE=image/jpeg:https://stiudelasorina.ro/wp-content/uploads/2026/03/festivalul_iepurasului_de_paste_main.jpg
END:VEVENT
BEGIN:VEVENT
DTSTART;TZID=Europe/Bucharest:20260328T170000
DTEND;TZID=Europe/Bucharest:20260328T200000
DTSTAMP:20260422T220249
CREATED:20260211T044838Z
LAST-MODIFIED:20260325T040959Z
UID:10008802-1774717200-1774728000@stiudelasorina.ro
SUMMARY:Seară de Board Games
DESCRIPTION: Se pare că ne place obiceiul acesta… și vrem să-l păstrăm. Așa că ne revedem din nou pentru încă o seară plină de râsete\, provocări și voie bună.\n Seara de jocuri nu este doar despre câștig sau strategie. Este despre oameni\, despre conexiuni și despre acele momente simple în care stăm la aceeași masă și ne bucurăm de compania celorlalți.\nPoți veni cu gașca ta de prieteni sau poți veni singur – promitem că nu vei rămâne singur mult timp. De fiecare dată apar oameni noi\, conversații noi și\, de multe ori\, prietenii noi.\nNe dorim să transformăm asta într-un mic ritual al comunității: sâmbătă seara ne întâlnim la jocuri.\nTe așteptăm la o seară relaxată\, prietenoasă și plină de distracție.Pentru că uneori cele mai frumoase seri sunt cele petrecute împreună.\n Scrie-ne în comentarii „Vin la jocuri” sau trimite-ne un mesaj și rezervă-ți locul la masă! Preț de intrare: voia bună!\n\n\n\n Favorite
URL:https://stiudelasorina.ro/event/seara-de-board-games/
LOCATION:The Social Cafe\, Str. Apeductului 51\, 077040 Chiajna\, București\, Chiajna\, 077040\, Romania
CATEGORIES:În familie,Pentru părinți,Play session
ATTACH;FMTTYPE=image/png:https://stiudelasorina.ro/wp-content/uploads/2026/02/655796795_122126532789055282_8689778318822270641_n.png
END:VEVENT
END:VCALENDAR