BEGIN:VCALENDAR
VERSION:2.0
PRODID:-//Mami, tati, unde mergem azi? - ECPv6.6.3//NONSGML v1.0//EN
CALSCALE:GREGORIAN
METHOD:PUBLISH
X-WR-CALNAME:Mami, tati, unde mergem azi?
X-ORIGINAL-URL:https://stiudelasorina.ro
X-WR-CALDESC:Events for Mami, tati, unde mergem azi?
REFRESH-INTERVAL;VALUE=DURATION:PT1H
X-Robots-Tag:noindex
X-PUBLISHED-TTL:PT1H
BEGIN:VTIMEZONE
TZID:Europe/Bucharest
BEGIN:DAYLIGHT
TZOFFSETFROM:+0200
TZOFFSETTO:+0300
TZNAME:EEST
DTSTART:20260329T010000
END:DAYLIGHT
BEGIN:STANDARD
TZOFFSETFROM:+0300
TZOFFSETTO:+0200
TZNAME:EET
DTSTART:20261025T010000
END:STANDARD
END:VTIMEZONE
BEGIN:VEVENT
DTSTART;TZID=Europe/Bucharest:20260420T100000
DTEND;TZID=Europe/Bucharest:20260420T110000
DTSTAMP:20260420T023212
CREATED:20260415T160718Z
LAST-MODIFIED:20260415T160718Z
UID:10009966-1776679200-1776682800@stiudelasorina.ro
SUMMARY:Regele Leu
DESCRIPTION:3 ani+ \nTeatrul Țăndărică aduce pe scenă una dintre cele mai îndrăgite povești ale tuturor timpurilor – „Regele Leu”\, într-o viziune scenică spectaculoasă semnată de Andrei și Andreea Grosu. Regizorii reinterpretează povestea emblematică despre curaj\, destin și apartenență\, într-o montare inovatoare\, gândită să fascineze deopotrivă copiii și adulții.\nCu o scenografie spectaculoasă\, spectacolul creează un univers vibrant\, unde muzica\, ritmul și jocul scenic construiesc o atmosferă magică. Echipa artistică explorează dimensiuni noi\, îmbinând elemente de teatru de animație cu tehnici teatrale contemporane.\n„Regele Leu” de la Teatrul Țăndărică nu este doar un spectacol\, ci și oexperiență captivantă\, o poveste spusă prin imagini și emoție. Montarea aduce în prim-plan forța narativă a vizualului și inovația artistică\, transformând fiecare moment într-o călătorie memorabilă pentru spectatori de toate vârstele. \n Favorite
URL:https://stiudelasorina.ro/event/regele-leu-2/
LOCATION:Teatrul Țăndărică\, Strada General Eremia Grigorescu 24\, București 010476\, București\, Sector 1\, 010476
CATEGORIES:Spectacol de teatru
ATTACH;FMTTYPE=image/avif:https://stiudelasorina.ro/wp-content/uploads/2025/03/regele-leu-7.avif
END:VEVENT
BEGIN:VEVENT
DTSTART;TZID=Europe/Bucharest:20260420T100000
DTEND;TZID=Europe/Bucharest:20260420T180000
DTSTAMP:20260420T023212
CREATED:20260210T044624Z
LAST-MODIFIED:20260415T144918Z
UID:10008763-1776679200-1776708000@stiudelasorina.ro
SUMMARY:Atinge\, Apasă\, Rotește și Descoperă Casa Experimentelor
DESCRIPTION:Casa Experimentelor este primul centru ştiinţific non-profit din România în care copiii sunt stârniți să descopere știința. Printre cei care ne trec pragul îi vom avea și pe viitorii Marie Curie sau Henri Coandă!\nÎn Casa Experimentelor veți găsi o grupare de exponate ştiinţifice instalate permanent\, realizate în scopul de a învăţa despre ştiinţă în timp ce vizitatorii se „joacă” cu ele.  Este de fapt un centru ştiinţific cu un concept inovativ de învăţare despre ştiinţă într-un mod informal. \n\nConceptul de bază al Casei Experimentelor este de a valorifica tendinţa copiilor de a se juca\, mai mult decât de a citi. Experimentele interactive variate crează contextul în care va fi posibilă experimentarea personală a fenomenelor şi explorarea unor situaţii noi şi de a pune întrebări. De fapt\, principiul este de „a învăţa făcând” într-o manieră distractivă.\nCasa Experimentelor s-a înființat printr-un proiect co-finanțat printr-un grant din partea Elveției prin intermediul contribuției elvețiene pentru Uniunea Europeană extinsă. Proiectul a avut o durată de 18 luni și s-a derulat în perioada 01.01.2015 – 30.06.2016.\nVizitatorii noștri au vârsta mai mare de 3 ani (grădiniţă\, şcoală\, liceu\, profesori şi educatori)\, sosiți în grupuri sau familii din toată țara. Strategia noastră este dată de conceptul „Ştiinţă pentru toţi”.\n\n Favorite
URL:https://stiudelasorina.ro/event/atinge-apasa-roteste-si-descopera-casa-experimentelor-3/
LOCATION:Casa Experimentelor – Romanian Science Center\, Calea Vitan 242\, București 031301\, București\, Sector 3\, 031301\, Romania
CATEGORIES:Expoziție
ATTACH;FMTTYPE=image/jpeg:https://stiudelasorina.ro/wp-content/uploads/2026/02/587276758_18380551855195565_2124785477708656011_n.jpeg
END:VEVENT
BEGIN:VEVENT
DTSTART;TZID=Europe/Bucharest:20260420T100000
DTEND;TZID=Europe/Bucharest:20260420T190000
DTSTAMP:20260420T023212
CREATED:20260417T143555Z
LAST-MODIFIED:20260417T143555Z
UID:10010033-1776679200-1776711600@stiudelasorina.ro
SUMMARY:Academia de cinematografie
DESCRIPTION:Începând cu 14 februarie 2026 tragem cortina pentru a aduce în prim-plan pe scena Muzeului Copiilor o nouă aventură sub forma unui atelier interactiv – „Academia de cinematografie”. De la filmul mut și până la culisele unui platou de filmare vom parcurge împreună activități din sfera multimedia precum: developare fotografii de pe film\, efecte sonore în camera antifonată și o zonă de fotografie într-un platou de filmare. \nCât de repede poți pedala pentru a porni aventura? \nActivitate dedicată copiilor de toate vârstele (și părinților curioși). Vârstă minimă recomandată: 5 ani. Copiii cu vârsta de până la 3 ani beneficiază de gratuitate. \nAccesul se efectuează în baza unei rezervări prealabile (achitată online). Serviciile de vizitare pot fi achiziționate și din recepția Muzeului Copiilor\, în limita locurilor disponibile per interval. \nCopiilor cu vârsta mai mică de 14 ani le este permis accesul exclusiv însoțiți de un adult. \nCost bilet: 30 lei/persoană. \nTimp vizitare: minimum 50 minute până la 1 oră și 15 minute/atelier. \n Favorite
URL:https://stiudelasorina.ro/event/academia-de-cinematografie-6/
LOCATION:Muzeul Copiilor\, Bloc S14\, Bulevardul Decebal 11\, București 030963\, București\, Sector 3\, 030963\, Romania
CATEGORIES:Expoziție
ATTACH;FMTTYPE=image/jpeg:https://stiudelasorina.ro/wp-content/uploads/2026/02/1770559237_8c02bdd55235219d72ad306588eb8fcc.jpg
END:VEVENT
BEGIN:VEVENT
DTSTART;TZID=Europe/Bucharest:20260420T100000
DTEND;TZID=Europe/Bucharest:20260420T190000
DTSTAMP:20260420T023212
CREATED:20260417T143727Z
LAST-MODIFIED:20260417T143727Z
UID:10010035-1776679200-1776711600@stiudelasorina.ro
SUMMARY:Laboratorul de experimente
DESCRIPTION:Începând cu 14 februarie 2026 vă invităm să descoperiți un nou spațiu educativ și interactiv\, de această dată dedicat fizicii și chimiei pentru copii. În „Laboratorul de Experimente!” veți afla cum funcționează mașinăria Van de Graaff sau Discul lui Newton\, vom schimba culoarea apei cu ajutorul substanțelor organice și vom crea propria moleculă. Echipați corespunzător\, vă așteptăm să descoperim misterele laboratorului științific. \nActivitate dedicată copiilor de toate vârstele (și părinților curioși). Vârstă minimă recomandată: 5 ani. Copiii cu vârsta de până la 3 ani beneficiază de gratuitate. \nAccesul se efectuează în baza unei rezervări prealabile (achitată online). Serviciile de vizitare pot fi achiziționate și din recepția Muzeului Copiilor\, în limita locurilor disponibile per interval. \nCopiilor cu vârsta mai mică de 14 ani le este permis accesul exclusiv însoțiți de un adult. \nCost bilet: 30 lei/persoană. \nTimp vizitare: minimum 50 minute până la 1 oră și 15 minute/atelier. \n Favorite
URL:https://stiudelasorina.ro/event/laboratorul-de-experimente-6/
LOCATION:Muzeul Copiilor\, Bloc S14\, Bulevardul Decebal 11\, București 030963\, București\, Sector 3\, 030963\, Romania
CATEGORIES:Expoziție
ATTACH;FMTTYPE=image/jpeg:https://stiudelasorina.ro/wp-content/uploads/2026/02/1770559654_4934a0ff54569aab4731a24b512b7e92.jpg
END:VEVENT
BEGIN:VEVENT
DTSTART;TZID=Europe/Bucharest:20260420T100000
DTEND;TZID=Europe/Bucharest:20260420T190000
DTSTAMP:20260420T023212
CREATED:20260417T143838Z
LAST-MODIFIED:20260417T143838Z
UID:10010037-1776679200-1776711600@stiudelasorina.ro
SUMMARY:Escape Rooms - Egiptul Antic și Castelul Vrăjitorului
DESCRIPTION:Caravanele „Egiptul Antic” și „Castelul Vrăjitorului” sosesc la Muzeul Copiilor! Sunteți pregătiți să descoperiți misterele din cele mai inedite jocuri din cele 2 escape room-uri? Aveți 30 minute pentru a găsi toate indiciile ce deschis ușa secretă! Activitățile sunt dedicate copiilor de 7-15 ani și familiilor acestora. \nBiletele se achiziționează din recepția Muzeului Copiilor în limita locurilor disponibile tur/interval. \n\n\n\n\n Favorite
URL:https://stiudelasorina.ro/event/escape-rooms-egiptul-antic-si-castelul-vrajitorului-6/
LOCATION:Muzeul Copiilor\, Bloc S14\, Bulevardul Decebal 11\, București 030963\, București\, Sector 3\, 030963\, Romania
CATEGORIES:Atelier
ATTACH;FMTTYPE=image/png:https://stiudelasorina.ro/wp-content/uploads/2026/03/1737557204_3ec4ea28fd58409321192bc48412d948.png
END:VEVENT
BEGIN:VEVENT
DTSTART;TZID=Europe/Bucharest:20260420T103000
DTEND;TZID=Europe/Bucharest:20260420T113000
DTSTAMP:20260420T023212
CREATED:20260129T044052Z
LAST-MODIFIED:20260325T033534Z
UID:10008482-1776681000-1776684600@stiudelasorina.ro
SUMMARY:Atelierele Bubu - Joacă și Emoții
DESCRIPTION:Atelier interactiv dedicat copiilor între 0 și 3 ani și părinților lor.\nAtelierul de Joacă și Emoții completează și aprofundează temele spectacolelor Bubu și crează o bază solidă pentru adaptarea cât mai lină la intrarea în comunitate (creșă/ grădiniță) a copilului.\n\nAtelierul are la baza un concept nou prin care vom identifica\, alături de pshihologul și actorul implicați\, cu ajutorul tehnicilor din terapia prin joc și a jocurilor teatrale\, nevoile sau provocările emoționale din relația părinte – copil: înțelegerea emoțiilor\, anxietăți\, încredere\, fobii\, conectare și prezența în relația părinte – copil. Echipa formată din psiholog și actor va facilita un „spațiu” sigur pentru copil și părinte\, cu multă empatie și înțelegere\, loc în care se vor putea conștientiza emoțiile și stările fiecăruia.\n\nDurata: 50 min\nSala Undergrant\nNr. participanți: 15 copii\nPreț copil (cu un însoțitor): 65 lei\nDetalii despre atelier: 0729.399.164\n\n*Atelierul are loc cu minim 5 participanți. În cazul în care atelierul este reprogramat\, veți fi contactat. Biletul dvs. va fi valabil pentru data reprogramării.\n Favorite
URL:https://stiudelasorina.ro/event/atelierele-bubu-joaca-si-emotii-4/
LOCATION:Opera Comică pentru Copii\, Calea Giulești 16\, București 060276\, București\, Sector 6\, 060276
CATEGORIES:Atelier
ATTACH;FMTTYPE=image/jpeg:https://stiudelasorina.ro/wp-content/uploads/2024/12/1751533633-696.jpg
END:VEVENT
BEGIN:VEVENT
DTSTART;TZID=Europe/Bucharest:20260420T150000
DTEND;TZID=Europe/Bucharest:20260420T160000
DTSTAMP:20260420T023212
CREATED:20260417T020421Z
LAST-MODIFIED:20260417T020432Z
UID:10010027-1776697200-1776700800@stiudelasorina.ro
SUMMARY:Atelier despre cum se fac filmele de animație
DESCRIPTION:𝗖𝘂𝗺 𝗶𝗮𝘂 𝗻𝗮𝘀̦𝘁𝗲𝗿𝗲 𝗳𝗶𝗹𝗺𝗲𝗹𝗲 𝗱𝗲 𝗮𝗻𝗶𝗺𝗮𝘁̦𝗶𝗲?\n\n\nBiblioteca Metropolitană București vă invită la un atelier dedicat celor mici\, în care magia animației prinde viață pas cu pas.\n\n\nPe 𝟮𝟬 𝗮𝗽𝗿𝗶𝗹𝗶𝗲\, de la 𝗼𝗿𝗮𝟭𝟱:𝟬𝟬\, la Filiala Emil Gârleanu – Biblioteca Metropolitană București\, 𝗰𝗼𝗽𝗶𝗶𝗶 𝗰𝘂 𝘃𝗮̂𝗿𝘀𝘁𝗲 𝗶̂𝗻𝘁𝗿𝗲 𝟲 𝘀̦𝗶 𝟭𝟬 𝗮𝗻𝗶 vor descoperi cum se creează personajele\, cum se construiesc poveștile și cum imaginile devin mișcare.\n\n\nUn prilej de a învăța\, de a experimenta și de a privi filmul dintr-o perspectivă nouă\, din culise\, acolo unde începe totul.\n\n\n Bd. Octavian Goga 6\, Bl. M25\n\n\n MOTOR… și… ACȚIUNE !!!  Pregătiți-vă imaginația! Participarea este gratuită!\n\n Favorite
URL:https://stiudelasorina.ro/event/atelier-despre-cum-se-fac-filmele-de-animatie/
LOCATION:Biblioteca Metropolitană București – Filiala Emil Gârleanu\, Bulevardul Octavian Goga 6\, 030982 București\, București\, Sector 3\, 030982\, Romania
CATEGORIES:Atelier
ATTACH;FMTTYPE=image/jpeg:https://stiudelasorina.ro/wp-content/uploads/2026/04/661204614_1025082340041478_3749654267456942169_n.jpg
END:VEVENT
BEGIN:VEVENT
DTSTART;TZID=Europe/Bucharest:20260420T150000
DTEND;TZID=Europe/Bucharest:20260420T163000
DTSTAMP:20260420T023212
CREATED:20251007T005234Z
LAST-MODIFIED:20260415T153753Z
UID:10006417-1776697200-1776702600@stiudelasorina.ro
SUMMARY:Descoperă. Trucurile iepurașilor
DESCRIPTION:Muzeul Național de Istorie Naturală „Grigore Antipa” continuă\, în luna aprilie 2026\, seria de ateliere Descoperă\, dedicată Trucurilor iepurașilor\, adresată copiilor și tinerilor cu cerințe educaționale speciale. \nÎn luna aprilie 2026\, vă invităm la o ediție special de primăvară a atelierelor „Descoperă” – Trucurile iepurașilor. \nLuni\, 20 aprilie 2026\, ora 15:00\, descoperim unul dintre cele mai îndrăgite animale ale primăverii: iepurașul\, într-un atelier special conceput pentru copiii și tinerii cu cerințe educaționale speciale. \nCe vom face în cadrul atelierului: \nVizită în muzeu \nPe parcursul unei scurte „drumeții” prin muzeu vom descoperi mai multe lucruri interesante despre iepuri și rudele lor din natură. Vom afla unde trăiesc iepurii\, ce mănâncă și cum reușesc să se ascundă de prădători. Vom descoperi câteva dintre „trucurile” iepurașilor: cum își folosesc urechile pentru a auzi pericolul de la distanță\, de ce pot alerga atât de repede și cum se camuflează în natură. Vom observa și alte animale care folosesc strategii asemănătoare pentru a se proteja și pentru a supraviețui. \nActivitate practică \nVom realiza un iepuraș decorativ sau un tablou de primăvară inspirat din natură\, folosind diverse materiale\, pe care participanții îl vor putea lua acasă\, ca amintire a atelierului. \nBeneficii pentru participanți: \n\nÎnvățare interactivă – Activități concepute să fie captivante și accesibile\, menite să stimuleze curiozitatea și dorința de explorare.\nDezvoltare personală – Sprijinirea abilităților de observație\, motricitate fină și exprimare creativă.\nIncluziune socială – Un cadru prietenos și sigur\, favorabil cooperării și formării de noi relații.\nRelaxare – O atmosferă plăcută\, cu muzică ambientală\, care susține atenția și concentrarea participanților.\n\nAtelierul își propune să ofere tuturor participanților o experiență accesibilă și memorabilă\, în care să descopere curiozități despre iepuri și adaptările lor surprinzătoare în natură. \nParticiparea este gratuită\, în limita a 10 locuri disponibile\, cu înscriere prealabilă\, prin completarea formular: https://forms.gle/kmBLSPBuXaM4EsHE6 \nImportant: \nPentru coordonatorii centrelor sociale din București care au în evidență copii sau tineri cu cerințe educaționale speciale:  dacă doriți să participați la activitate cu un grup complet\, într-un alt interval orar față de cel anunțat\, vă rugăm să ne contactați la adresa incluziune@antipa.ro\, pentru a stabili de comun acord o dată și un interval potrivit. \n  \nVă așteptăm cu drag! \n Favorite
URL:https://stiudelasorina.ro/event/descopera-trucurile-primatelor/
LOCATION:Muzeul Național de Istorie Naturală „Grigore Antipa”\, Şoseaua Pavel D. Kiseleff 1\, București 011341\, București\, Sector 1\, 011341
CATEGORIES:Atelier
ATTACH;FMTTYPE=image/jpeg:https://stiudelasorina.ro/wp-content/uploads/2025/10/poza-768x960-1.jpg
END:VEVENT
BEGIN:VEVENT
DTSTART;TZID=Europe/Bucharest:20260420T173000
DTEND;TZID=Europe/Bucharest:20260420T185000
DTSTAMP:20260420T023212
CREATED:20260327T013641Z
LAST-MODIFIED:20260417T022222Z
UID:10009631-1776706200-1776711000@stiudelasorina.ro
SUMMARY:Atelier creativ - Ziua Pământului
DESCRIPTION:La Clinica de Psihologie Bianca Miu pregătim un atelier special dedicat Zilei Pământului\n\n\nNe vom juca\, vom crea și vom învăța\, într-un mod natural și plăcut pentru copii\, despre natură\, grijă și responsabilitate față de mediul înconjurător. Activitățile sunt gândite astfel încât cei mici să înțeleagă prin experiență directă\, prin joacă\, explorare și creativitate.\n\n\nFiecare copil va pleca acasă cu propriile creații și\, sperăm noi\, cu o bucurie sinceră de a avea grijă de lumea din jurul lui.\n\n\n Luni\, 20 aprilie\n 17:30 – 18:50\n Sector 6 – Clinica de Psihologie Bianca Miu\n 150 lei (materiale incluse)\n\n\nLocurile sunt limitate. Înscrieri prin mesaj privat sau la numărul de telefon 0770 817 047.\n\n\nVă așteptăm cu drag!\n\n\n\n\n\n Favorite
URL:https://stiudelasorina.ro/event/atelier-de-paste-3/
LOCATION:Clinica de Psihologie Bianca Miu\, Strada Romancierilor 5\, 061791 București\, București\, Sector 6\, 061791\, Romania
CATEGORIES:Atelier
ATTACH;FMTTYPE=image/jpeg:https://stiudelasorina.ro/wp-content/uploads/2026/03/672687324_3889422214525849_3484632130743175126_n.jpg
END:VEVENT
END:VCALENDAR